BEGIN:VCALENDAR
VERSION:2.0
PRODID:-//ChamberMaster//Event Calendar 2.0//EN
METHOD:PUBLISH
X-PUBLISHED-TTL:P3D
REFRESH-INTERVAL:P3D
CALSCALE:GREGORIAN
BEGIN:VEVENT
DTSTART:20160504T120000Z
DTEND:20160504T220000Z
X-MICROSOFT-CDO-ALLDAYEVENT:FALSE
SUMMARY:SCORE Technology Day sponsored by TREYSTA Technology Management\, Block Business Solutions and Verizon
DESCRIPTION:Want to know what the right technology can do for your business? Register now for the SCORE Technology Day: sponsored by TREYSTA Technology Management\, Block Business Solutions and Verizon! Mark your calendars for May 4th from 8A-6P at the Heritage Hills Golf Resort for a day of informative seminars where you can learn how to grow your business with the right technology!   \n\n \n\nFeatured seminars include Disaster Planning and Recovery\, Data Security\, Cloud Technology\, the latest in Tech Gadgets\, Document Management and much more!  Lunch will be provided.  Limited seats available! \n\n\n\nThis workshop includes your choice of 10 seminars\, vendor tables\, swag\, lunch\, one-on-one time with our vendors\, giveaways and a happy hour!  Secure your spot today by registering below.  Learn how to grow your business!  Our seminars will feature optimization techniques\, practices and equipment that will save you both time and money.  Reserve your seat now at a discounted rate!
X-ALT-DESC;FMTTYPE=text/html:<span style="color:#59554D"><span style="font-family:arial\,sans-serif">Want to know what the right technology can do for your business? Register now for the SCORE Technology Day: sponsored by TREYSTA Technology Management\, Block Business Solutions and Verizon! Mark your calendars for May 4<sup>th</sup> from 8A-6P at the Heritage Hills Golf Resort for a day of informative seminars where you can learn how to grow your business with the right technology!&nbsp\; &nbsp\;</span></span><br />\n&nbsp\;<br />\n<span style="color:#333333"><span style="font-family:arial\,sans-serif">Featured seminars include Disaster Planning and Recovery\, Data Security\, Cloud Technology\, the latest in Tech Gadgets\, Document Management and much more!&nbsp\; Lunch will be provided.&nbsp\; Limited seats available!&nbsp\;</span></span><br />\n<br />\n<span style="font-size:12px">This workshop includes your choice of 10 seminars\, vendor tables\, swag\, lunch\, one-on-one time with our vendors\, giveaways and a happy hour!&nbsp\; Secure your spot today by registering below.&nbsp\; Learn how to grow your business!&nbsp\; Our seminars will feature optimization techniques\, practices and equipment that will save you both time and money.&nbsp\; Reserve your seat now at a discounted rate!</span>
LOCATION:Heritage Hills Golf Resort York\, PA
UID:e.1500.1093
SEQUENCE:3
DTSTAMP:20260422T115045Z
URL:https://business.mainstreethanover.org/events/details/score-technology-day-sponsored-by-treysta-technology-management-block-business-solutions-and-verizon-05-04-2016-1093
END:VEVENT

END:VCALENDAR
