BEGIN:VCALENDAR
VERSION:2.0
PRODID:-//ChamberMaster//Event Calendar 2.0//EN
METHOD:PUBLISH
X-PUBLISHED-TTL:P3D
REFRESH-INTERVAL:P3D
CALSCALE:GREGORIAN
BEGIN:VEVENT
DTSTART:20161110T130000Z
DTEND:20161110T160000Z
X-MICROSOFT-CDO-ALLDAYEVENT:FALSE
SUMMARY:SEK&Co's Free Year End Insight Seminar
DESCRIPTION:Smith Elliott Kearns & Company\, LLC's FREE annual seminar that focuses on updates and issues affecting payroll and other compliance matters for Pennsylvania and Maryland businesses.\n\n\n\nA continental breakfast will be served beginning at 8:00 a.m. The session will run from 8:30 a.m - 11:00 p.m.\n\n\n\nMore info: http://www.sek.com/wp-content/uploads/2016/10/2016-Insight-Invitation.pdf\n\nTo register: http://sek.eventbrite.com by October 27th.
X-ALT-DESC;FMTTYPE=text/html:Smith Elliott Kearns &amp\; Company\, LLC&#39\;s FREE annual seminar that focuses on updates and issues affecting payroll and other compliance matters for Pennsylvania and Maryland businesses.<br />\n<br />\nA continental breakfast will be served beginning at 8:00 a.m. The session will run from 8:30 a.m - 11:00 p.m.<br />\n<br />\nMore info: <a href="http://www.sek.com/wp-content/uploads/2016/10/2016-Insight-Invitation.pdf">http://www.sek.com/wp-content/uploads/2016/10/2016-Insight-Invitation.pdf</a><br />\nTo register: <a href="http://sek.eventbrite.com/">http://sek.eventbrite.com</a>&nbsp\;by October 27th.
LOCATION:Hanover Country Club - 200 Water Street\, Abbottstown\, PA
UID:e.1500.2260
SEQUENCE:3
DTSTAMP:20260422T021702Z
URL:https://business.mainstreethanover.org/events/details/sek-co-s-free-year-end-insight-seminar-2260
END:VEVENT

END:VCALENDAR
