BEGIN:VCALENDAR
VERSION:2.0
PRODID:-//ChamberMaster//Event Calendar 2.0//EN
METHOD:PUBLISH
X-PUBLISHED-TTL:P3D
REFRESH-INTERVAL:P3D
CALSCALE:GREGORIAN
BEGIN:VEVENT
DTSTART:20180802T140000Z
DTEND:20180802T160000Z
X-MICROSOFT-CDO-ALLDAYEVENT:FALSE
SUMMARY:Selling to the Government: The first steps.
DESCRIPTION:This FREE seminar will introduce companies on how the government purchases products/services and the beginning steps of how to be a government contractor.
X-ALT-DESC;FMTTYPE=text/html:<em><span style="color:black\;"><span style="font-family:times new roman\,serif\;"><span style="font-size:10.0pt\;">This FREE seminar will introduce companies on how the government purchases products/services and the beginning steps of how to be a government contractor. </span></span></span></em>
LOCATION:Shippensburg University Small Business Development Center 1871 Old Main Drive\, Grove Hall Room 405\,Shippensburg\, PA 17257
UID:e.1500.4266
SEQUENCE:3
DTSTAMP:20260420T164821Z
URL:https://business.mainstreethanover.org/events/details/selling-to-the-government-the-first-steps-4266
END:VEVENT

END:VCALENDAR
