BEGIN:VCALENDAR
VERSION:2.0
PRODID:-//ChamberMaster//Event Calendar 2.0//EN
METHOD:PUBLISH
X-PUBLISHED-TTL:P3D
REFRESH-INTERVAL:P3D
CALSCALE:GREGORIAN
BEGIN:VEVENT
DTSTART:20160520T130000Z
DTEND:20160521T030000Z
X-MICROSOFT-CDO-ALLDAYEVENT:FALSE
SUMMARY:Seminar: Best Management Practices for Employers\, presented by Stock & Leader
DESCRIPTION:Top employee handbook mistakes to avoid\, crafting clear job descriptions and managing the risk of employment discrimination claims.  Presented by Stock and Leader\, Attorneys at Law.  This program has been submitted to the HR Certification Institute for review.  This program may be submitted for SHRM credits.
X-ALT-DESC;FMTTYPE=text/html:<span style="color: rgb(0\, 0\, 0)\; font-family: Calibri\, Helvetica\, Arial\, sans-serif\; font-size: 16px\; line-height: 20.8px\;">Top employee handbook mistakes to avoid\, crafting clear job descriptions and managing the risk of employment discrimination claims. &nbsp\;</span><span _mce_style="font-family: Calibri\, Helvetica\, Arial\, sans-serif\; font-size: 16px\; line-height: 20.8px\;" style="color: rgb(0\, 0\, 0)\; font-family: Calibri\, Helvetica\, Arial\, sans-serif\; font-size: 16px\; line-height: 20.8px\;">Presented by Stock and Leader\, Attorneys at Law. &nbsp\;<em>This program has been submitted to the HR Certification Institute for review. &nbsp\;This program may be submitted for SHRM credits.&nbsp\;</em></span>
LOCATION:Guthrie Memorial Library\, John D. Bare Center 2 Library Place\, Hanover
UID:e.1500.1056
SEQUENCE:3
DTSTAMP:20260422T131142Z
URL:https://business.mainstreethanover.org/events/details/seminar-best-management-practices-for-employers-presented-by-stock-leader-05-20-2016-1056
END:VEVENT

END:VCALENDAR
