BEGIN:VCALENDAR
VERSION:2.0
PRODID:-//ChamberMaster//Event Calendar 2.0//EN
METHOD:PUBLISH
X-PUBLISHED-TTL:P3D
REFRESH-INTERVAL:P3D
CALSCALE:GREGORIAN
BEGIN:VEVENT
DTSTART:20170720T120000Z
DTEND:20170720T140000Z
X-MICROSOFT-CDO-ALLDAYEVENT:FALSE
SUMMARY:Seminar: How to Increase Your Sales by Understanding Your Behavioral Style
DESCRIPTION:Presented by Donald Shores\, Penny Press of York\n\n\n\nLearn:\n\n	The biggest thing holding you back?\n	What Unique Personality styles are?\n	How to make the changes you need to make for more success\n	What the four behavioral styles are and how to recognize them.
X-ALT-DESC;FMTTYPE=text/html:<span style="font-size:12px\;"><span style="font-family:arial\;">Presented by Donald Shores\, Penny Press of York<br />\n<br />\nLearn:</span></span>\n<ul>\n	<li style="margin-bottom:8.0pt\;line-height:105%\;"><span style="font-size:12px\;"><span style="font-family:arial\;">The biggest thing holding you back?</span></span></li>\n	<li style="margin-bottom:8.0pt\;line-height:105%\;"><span style="font-size:12px\;"><span style="font-family:arial\;">What Unique Personality styles are?</span></span></li>\n	<li style="margin-bottom:8.0pt\;line-height:105%\;"><span style="font-size:12px\;"><span style="font-family:arial\;">How to make the changes you need to make for more success</span></span></li>\n	<li style="margin-bottom:8.0pt\;line-height:105%\;"><span style="font-size:12px\;"><span style="font-family:arial\;">What the four behavioral styles are and how to recognize them.</span></span></li>\n</ul>\n
LOCATION:Hanover Chamber Office 146 Carlisle St.\, Hanover
UID:e.1500.2486
SEQUENCE:3
DTSTAMP:20260421T155150Z
URL:https://business.mainstreethanover.org/events/details/seminar-how-to-increase-your-sales-by-understanding-your-behavioral-style-2486
END:VEVENT

END:VCALENDAR
