BEGIN:VCALENDAR
VERSION:2.0
PRODID:-//ChamberMaster//Event Calendar 2.0//EN
METHOD:PUBLISH
X-PUBLISHED-TTL:P3D
REFRESH-INTERVAL:P3D
CALSCALE:GREGORIAN
BEGIN:VEVENT
DTSTART:20180511T120000Z
DTEND:20180511T140000Z
X-MICROSOFT-CDO-ALLDAYEVENT:FALSE
SUMMARY:Seminar: "Jump Starting Your Lean Journey" presented by Michael Roth\, President Go-Lean-Six Training and Consulting
DESCRIPTION:"Jump Starting Your Lean Journey"\n\nPresented by Michael Roth\, President Go-Lean-Six Training and Consulting   \n\n \n\nJoin us to learn the eight steps of Value Stream Management and how they can be applied in your organization to maximize your workforce and minimize waste. Value Stream Management is a process for planning and linking lean initiatives through systematic data capture and analysis.\n\nAccording to sixsigmaonline.org\, the Lean Six Sigma process is the method by which businesses and industries work towards optimizing their expenditures. This process seeks to ensure that all monies and energies that are invested in a business work towards the ideal goal of the business\, whether it be products or services. Thus\, a company will trim the fat from its operations and its production methods to ensure that there are limited deductions from final profits.\n\n \n\nMeet Our Speaker: \n\n Mike Roth is a Lean Six Sigma Master Black Belt with a Lean Manufacturing Certification from the University of Michigan. As CEO / President\, Mike provides strategic leadership and "on site" mentoring for the Go-Lean-Six deployment team. He has over twenty years of experience in the process improvement field with organizations such as Harley-Davidson\, Johnson Controls\, Mack Trucks\, BAE Systems and Volvo.\n\n\n\nTarget Audience:\n\n Anyone interested a low cost solution to increase capacity while and improving Safety\, Quality\, Delivery and Costs: CEO's\, CFO's Directors\, Managers\, Supervisors\, Engineers and Lean-Six Practitioners\n\n\n\nSchedule
X-ALT-DESC;FMTTYPE=text/html:<span style="font-size:11pt\;"><span style="font-family:calibri\,sans-serif\;"><strong>&ldquo\;Jump Starting Your Lean Journey&rdquo\;</strong><br />\nPresented by Michael Roth\, President Go-Lean-Six Training and Consulting&nbsp\; &nbsp\;<br />\n&nbsp\;</span></span><br />\nJoin us to learn the eight steps of Value Stream Management and how they can be applied in your organization to maximize your workforce and minimize waste. Value Stream Management is a process for planning and linking lean initiatives through systematic data capture and analysis.<br />\nAccording to sixsigmaonline.org\, the Lean Six Sigma process is the method by which businesses and industries work towards optimizing their expenditures. This process seeks to ensure that all monies and energies that are invested in a business work towards the ideal goal of the business\, whether it be products or services. Thus\, a company will trim the fat from its operations and its production methods to ensure that there are limited deductions from final profits.<br />\n&nbsp\;<br />\n<strong>Meet Our Speaker: </strong><br />\n&nbsp\;Mike Roth is a Lean Six Sigma Master Black Belt with a Lean Manufacturing Certification from the University of Michigan. As CEO / President\, Mike provides strategic leadership and &quot\;on site&quot\; mentoring for the Go-Lean-Six deployment team. He has over twenty years of experience in the process improvement field with organizations such as Harley-Davidson\, Johnson Controls\, Mack Trucks\, BAE Systems and Volvo.<br />\n<br />\n<strong>Target Audience:</strong><br />\n&nbsp\;Anyone interested a low cost solution to increase capacity while and improving Safety\, Quality\, Delivery and Costs:&nbsp\;<span style="font-size:11pt\;"><span style="font-family:calibri\,sans-serif\;">CEO&rsquo\;s\, CFO&rsquo\;s Directors\, Managers\, Supervisors\, Engineers and Lean-Six Practitioners</span></span><br />\n<br />\n<button id="tw_schedule_btn" style="padding: 4px 6px\; position: absolute\; left: 141px\; top: 840px\; background-image: linear-gradient(rgb(255\, 255\, 255)\, rgb(240\, 240\, 240))\; border: 1px solid rgb(204\, 204\, 204)\; color: rgb(95\, 95\, 95)\; cursor: pointer\; font-weight: bold\; text-shadow: rgb(255\, 255\, 255) 0px 1px\; white-space: nowrap\; border-top-left-radius: 3px\; border-top-right-radius: 3px\; border-bottom-right-radius: 3px\; border-bottom-left-radius: 3px\; font-size: 11px\; z-index: 8675309\; display: none\; background-position: initial initial\; background-repeat: initial initial\;"><span>Schedule</span></button>
LOCATION:Hanover Area Chamber of Commerce - Large Conference Room 146 Carlisle Street Hanover\, PA 17331Schedule
UID:e.1500.4139
SEQUENCE:3
DTSTAMP:20260420T215619Z
URL:https://business.mainstreethanover.org/events/details/seminar-jump-starting-your-lean-journey-presented-by-michael-roth-president-go-lean-six-training-and-consulting-4139
END:VEVENT

END:VCALENDAR
