BEGIN:VCALENDAR
VERSION:2.0
PRODID:-//ChamberMaster//Event Calendar 2.0//EN
METHOD:PUBLISH
X-PUBLISHED-TTL:P3D
REFRESH-INTERVAL:P3D
CALSCALE:GREGORIAN
BEGIN:VEVENT
DTSTART:20180323T130000Z
DTEND:20180323T140000Z
X-MICROSOFT-CDO-ALLDAYEVENT:FALSE
SUMMARY:Seminar presented by Dennis Marsh supervisor of the Commonwealth of Pennsylvania's New Hire Reporting Program
DESCRIPTION:Dennis Marsh supervises the Commonwealth of Pennsylvania's New Hire Reporting Program within the Department of Labor & Industry\, as a Workforce Partner Agency (WPA) within the Commonwealth Workforce Development System (CWDS). \n\n\n\nSome topics that will be discussed during the seminar will be: \n\nA brief history of child support enforcement its purpose (to alleviate childhood poverty)\, by having the noncustodial parent provide support to their dependent children\, through wage garnishment\n\n	Some summary statistics on children receiving support\, in Pennsylvania and nationally\n	How new hire reporting relates to this\, how noncustodial parents who owe child support are found\, and allowed uses of the new hire data in Pennsylvania\n	The role employers have in the child support enforcement process\, and how employers report their new hire data to the Program\n	Details on new hire reporting  methods allowed by law and preferred by the Program\n	The results of new hire reporting for both children (child support collections data)\, and employers (fraud detection and recovery in unemployment compensation and workers compensation programs)\n\nSchedule
X-ALT-DESC;FMTTYPE=text/html:Dennis Marsh supervises the Commonwealth of Pennsylvania&#39\;s New Hire Reporting Program within the Department of Labor &amp\; Industry\, as a Workforce Partner Agency (WPA) within the Commonwealth Workforce Development System (CWDS).&nbsp\;<br />\n<br />\n<b>Some topics that will be discussed during the seminar will be:&nbsp\;</b><br />\nA brief history of child support enforcement&mdash\;its purpose (to alleviate childhood poverty)\, by having the noncustodial parent provide support to their dependent children\, through wage garnishment\n<ul>\n	<li>Some summary statistics on children receiving support\, in Pennsylvania and nationally</li>\n	<li>How new hire reporting relates to this\, how noncustodial parents who owe child support are found\, and allowed uses of the new hire data in Pennsylvania</li>\n	<li>The role employers have in the child support enforcement process\, and how employers report their new hire data to the Program</li>\n	<li>Details on new hire reporting&nbsp\; methods allowed by law and preferred by the Program</li>\n	<li>The results of new hire reporting&mdash\;for both children (child support collections data)\, and employers (fraud detection and recovery in unemployment compensation and workers compensation programs)</li>\n</ul>\n<button id="tw_schedule_btn" style="padding: 4px 6px\; position: absolute\; left: 141px\; top: 840px\; background-image: linear-gradient(rgb(255\, 255\, 255)\, rgb(240\, 240\, 240))\; border: 1px solid rgb(204\, 204\, 204)\; color: rgb(95\, 95\, 95)\; cursor: pointer\; font-weight: bold\; text-shadow: rgb(255\, 255\, 255) 0px 1px\; white-space: nowrap\; border-top-left-radius: 3px\; border-top-right-radius: 3px\; border-bottom-right-radius: 3px\; border-bottom-left-radius: 3px\; font-size: 11px\; z-index: 8675309\; display: none\; background-position: initial initial\; background-repeat: initial initial\;"><span>Schedule</span></button>
LOCATION:Hanover Area Chamber of Commerce - Large Conference Room 146 Carlisle Street Hanover\, PA 17331Schedule
UID:e.1500.4134
SEQUENCE:3
DTSTAMP:20260421T025353Z
URL:https://business.mainstreethanover.org/events/details/seminar-presented-by-dennis-marsh-supervisor-of-the-commonwealth-of-pennsylvania-s-new-hire-reporting-program-4134
END:VEVENT

END:VCALENDAR
