BEGIN:VCALENDAR
VERSION:2.0
PRODID:-//ChamberMaster//Event Calendar 2.0//EN
METHOD:PUBLISH
X-PUBLISHED-TTL:P3D
REFRESH-INTERVAL:P3D
CALSCALE:GREGORIAN
BEGIN:VEVENT
DTSTART:20181128T170000Z
DTEND:20181128T183000Z
X-MICROSOFT-CDO-ALLDAYEVENT:FALSE
SUMMARY:Seminar Series: Part 1 - Tax Reform Laws with Sherry Cracium-Bolin\, RLH CPA
DESCRIPTION:Join us for part one of two\, to go over new tax reform laws that will be implemented this year! Presented by Sherry Cracium-Bolin. \n\n\n\nConfused about what the final tax reform bill looks like and what it means for you? You're not alone! Join us to go over the major impact areas of the Tax Cuts and Jobs Act (TCJA)\, which will impact your 2018 tax returns. In this two part series\, we will review both the changes for business and individual filers. Some of the topics to be covered include:\n\n\n\nBusinesses (Will be Covered at the November 28\, 2018 Seminar):\n\n	20% Qualified Business Income Deduction (New!)\n	Tax Rates (Changed!)\n	Depreciation   Bonus and Section 179 (Changed!)\n	Net Operating Loss Deductions (Changed!)\n	Deductibility of Meals and Entertainment Expenses (Changed!)\n	Business Interest Expense Deduction (Changed!)\n	Accounting Methods for "Small Taxpayers" (Changed!)\n	Like-Kind Exchanges (Partially Eliminated!)\n	Credit for Paid Family or Medical Leave (New!)\n\n \n\nIndividuals (Will be Covered at the December 12\, 2018 Seminar):\n\n\n	Tax Rates (Changed!)\n	Personal Exemptions (Eliminated!)\n	Standard Deductions (Changed!)\n	Allowable Itemized Deductions (Changed!)\n	Employee Expenses (Eliminated!)\n	Home Office Deduction for Employees (Eliminated!)\n	Child Tax Credit (Changed!)\n	Other Dependent Credit (New!)\n	Education Credits (Changed!)\n	529 Plan Distributions (Changed!)\n	Mortgage Interest Deduction (Changed!)\n	Estate and Gift Taxes (Changed!)
X-ALT-DESC;FMTTYPE=text/html:<span style="font-size:12px\;">Join us for part one of two\, to go over new tax reform laws that will be implemented this year! Presented by&nbsp\;Sherry Cracium-Bolin.&nbsp\;<br />\n<br />\nConfused about what the final tax reform bill looks like and what it means for you? You&rsquo\;re not alone! Join us to go over the major impact areas of the Tax Cuts and Jobs Act (TCJA)\, which will impact your <strong><u>2018</u></strong> tax returns. In this two part series\, we will review both the changes for business and individual filers. Some of the topics to be covered include:<br />\n<br />\n<strong><u>Businesses</u></strong><u> (Will be Covered at the November 28\, 2018 Seminar):</u></span>\n<ul>\n	<li style="margin-bottom:0in\;margin-bottom:.0001pt\;"><span style="font-size:12px\;">20% Qualified Business Income Deduction <strong>(New!)</strong></span></li>\n	<li style="margin-bottom:0in\;margin-bottom:.0001pt\;"><span style="font-size:12px\;">Tax Rates (Changed!)</span></li>\n	<li style="margin-bottom:0in\;margin-bottom:.0001pt\;"><span style="font-size:12px\;">Depreciation &ndash\; Bonus and Section 179 (Changed!)</span></li>\n	<li style="margin-bottom:0in\;margin-bottom:.0001pt\;"><span style="font-size:12px\;">Net Operating Loss Deductions (Changed!)</span></li>\n	<li style="margin-bottom:0in\;margin-bottom:.0001pt\;"><span style="font-size:12px\;">Deductibility of Meals and Entertainment Expenses (Changed!)</span></li>\n	<li style="margin-bottom:0in\;margin-bottom:.0001pt\;"><span style="font-size:12px\;">Business Interest Expense Deduction (Changed!)</span></li>\n	<li style="margin-bottom:0in\;margin-bottom:.0001pt\;"><span style="font-size:12px\;">Accounting Methods for &ldquo\;Small Taxpayers&rdquo\; (Changed!)</span></li>\n	<li style="margin-bottom:0in\;margin-bottom:.0001pt\;"><span style="font-size:12px\;">Like-Kind Exchanges (Partially Eliminated!)</span></li>\n	<li style="margin-bottom:0in\;margin-bottom:.0001pt\;"><span style="font-size:12px\;">Credit for Paid Family or Medical Leave <strong>(New!)</strong></span></li>\n</ul>\n<span style="font-size:12px\;">&nbsp\;<br />\n<strong><u>Individuals</u></strong><u> (Will be Covered at the December 12\, 2018 Seminar):</u></span>\n\n<ul>\n	<li style="margin-bottom:0in\;margin-bottom:.0001pt\;"><span style="font-size:12px\;">Tax Rates (Changed!)</span></li>\n	<li style="margin-bottom:0in\;margin-bottom:.0001pt\;"><span style="font-size:12px\;">Personal Exemptions (Eliminated!)</span></li>\n	<li style="margin-bottom:0in\;margin-bottom:.0001pt\;"><span style="font-size:12px\;">Standard Deductions (Changed!)</span></li>\n	<li style="margin-bottom:0in\;margin-bottom:.0001pt\;"><span style="font-size:12px\;">Allowable Itemized Deductions (Changed!)</span></li>\n	<li style="margin-bottom:0in\;margin-bottom:.0001pt\;"><span style="font-size:12px\;">Employee Expenses (Eliminated!)</span></li>\n	<li style="margin-bottom:0in\;margin-bottom:.0001pt\;"><span style="font-size:12px\;">Home Office Deduction for Employees (Eliminated!)</span></li>\n	<li style="margin-bottom:0in\;margin-bottom:.0001pt\;"><span style="font-size:12px\;">Child Tax Credit (Changed!)</span></li>\n	<li style="margin-bottom:0in\;margin-bottom:.0001pt\;"><span style="font-size:12px\;">Other Dependent Credit <strong>(New!)</strong></span></li>\n	<li style="margin-bottom:0in\;margin-bottom:.0001pt\;"><span style="font-size:12px\;">Education Credits (Changed!)</span></li>\n	<li style="margin-bottom:0in\;margin-bottom:.0001pt\;"><span style="font-size:12px\;">529 Plan Distributions (Changed!)</span></li>\n	<li style="margin-bottom:0in\;margin-bottom:.0001pt\;"><span style="font-size:12px\;">Mortgage Interest Deduction (Changed!)</span></li>\n	<li style="margin-bottom:0in\;margin-bottom:.0001pt\;"><span style="font-size:12px\;">Estate and Gift Taxes (Changed!)</span></li>\n</ul>\n
LOCATION:Chamber Office 146 Carlisle Street
UID:e.1500.4334
SEQUENCE:3
DTSTAMP:20260420T115458Z
URL:https://business.mainstreethanover.org/events/details/seminar-series-part-1-tax-reform-laws-with-sherry-cracium-bolin-rlh-cpa-4334
END:VEVENT

END:VCALENDAR
