BEGIN:VCALENDAR
VERSION:2.0
PRODID:-//ChamberMaster//Event Calendar 2.0//EN
METHOD:PUBLISH
X-PUBLISHED-TTL:P3D
REFRESH-INTERVAL:P3D
CALSCALE:GREGORIAN
BEGIN:VEVENT
DTSTART:20181212T170000Z
DTEND:20181212T183000Z
X-MICROSOFT-CDO-ALLDAYEVENT:FALSE
SUMMARY:Seminar Series: Part 2 - Tax Reform Laws with Sherry Cracium-Bolin\, RLH CPA
DESCRIPTION:Join us for part two of tax reform series\, presented by Sherry Cracium-Bolin of RLH CPAs\, to go over new tax reform laws that will be implemented this year! \n\n \n\nIndividuals (Will be Covered at the December 12\, 2018 Seminar):\n\n	Tax Rates (Changed!)\n	Personal Exemptions (Eliminated!)\n	Standard Deductions (Changed!)\n	Allowable Itemized Deductions (Changed!)\n	Employee Expenses (Eliminated!)\n	Home Office Deduction for Employees (Eliminated!)\n	Child Tax Credit (Changed!)\n	Other Dependent Credit (New!)\n	Education Credits (Changed!)\n	529 Plan Distributions (Changed!)\n	Mortgage Interest Deduction (Changed!)\n	Estate and Gift Taxes (Changed!)
X-ALT-DESC;FMTTYPE=text/html:<span style="font-size:12px\;"><span style="font-family:arial\;">Join us for part two of tax reform series\, presented by Sherry Cracium-Bolin of RLH CPAs\, to go over new tax reform laws that will be implemented this year!&nbsp\;<br />\n&nbsp\;<br />\n<strong><u>Individuals</u></strong><u> (Will be Covered at the December 12\, 2018 Seminar):</u></span></span>\n<ul>\n	<li style="margin-bottom:0in\;margin-bottom:.0001pt\;"><span style="font-size:12px\;"><span style="font-family:arial\;">Tax Rates (Changed!)</span></span></li>\n	<li style="margin-bottom:0in\;margin-bottom:.0001pt\;"><span style="font-size:12px\;"><span style="font-family:arial\;">Personal Exemptions (Eliminated!)</span></span></li>\n	<li style="margin-bottom:0in\;margin-bottom:.0001pt\;"><span style="font-size:12px\;"><span style="font-family:arial\;">Standard Deductions (Changed!)</span></span></li>\n	<li style="margin-bottom:0in\;margin-bottom:.0001pt\;"><span style="font-size:12px\;"><span style="font-family:arial\;">Allowable Itemized Deductions (Changed!)</span></span></li>\n	<li style="margin-bottom:0in\;margin-bottom:.0001pt\;"><span style="font-size:12px\;"><span style="font-family:arial\;">Employee Expenses (Eliminated!)</span></span></li>\n	<li style="margin-bottom:0in\;margin-bottom:.0001pt\;"><span style="font-size:12px\;"><span style="font-family:arial\;">Home Office Deduction for Employees (Eliminated!)</span></span></li>\n	<li style="margin-bottom:0in\;margin-bottom:.0001pt\;"><span style="font-size:12px\;"><span style="font-family:arial\;">Child Tax Credit (Changed!)</span></span></li>\n	<li style="margin-bottom:0in\;margin-bottom:.0001pt\;"><span style="font-size:12px\;"><span style="font-family:arial\;">Other Dependent Credit <strong>(New!)</strong></span></span></li>\n	<li style="margin-bottom:0in\;margin-bottom:.0001pt\;"><span style="font-size:12px\;"><span style="font-family:arial\;">Education Credits (Changed!)</span></span></li>\n	<li style="margin-bottom:0in\;margin-bottom:.0001pt\;"><span style="font-size:12px\;"><span style="font-family:arial\;">529 Plan Distributions (Changed!)</span></span></li>\n	<li style="margin-bottom:0in\;margin-bottom:.0001pt\;"><span style="font-size:12px\;"><span style="font-family:arial\;">Mortgage Interest Deduction (Changed!)</span></span></li>\n	<li style="margin-bottom:0in\;margin-bottom:.0001pt\;"><span style="font-size:12px\;"><span style="font-family:arial\;">Estate and Gift Taxes (Changed!)</span></span></li>\n</ul>\n
LOCATION:Chamber Office 146 Carlisle Street
UID:e.1500.4335
SEQUENCE:3
DTSTAMP:20260420T101941Z
URL:https://business.mainstreethanover.org/events/details/seminar-series-part-2-tax-reform-laws-with-sherry-cracium-bolin-rlh-cpa-4335
END:VEVENT

END:VCALENDAR
