BEGIN:VCALENDAR
VERSION:2.0
PRODID:-//ChamberMaster//Event Calendar 2.0//EN
METHOD:PUBLISH
X-PUBLISHED-TTL:P3D
REFRESH-INTERVAL:P3D
CALSCALE:GREGORIAN
BEGIN:VEVENT
DTSTART:20180609T140000Z
DTEND:20180610T010000Z
X-MICROSOFT-CDO-ALLDAYEVENT:FALSE
SUMMARY:Service & Sacrifice Ride
DESCRIPTION:We are holding this event to raise money for the packages we send to deployed troops and to fill the backpacks for homeless veterans. Meet at Dylan's of East Berlin (321 Harrisburg St\, East Berlin\, PA). Registration starts at 10am. Kickstands up at noon. $20 per person registers you for the ride and gets you into the after party for food and entertainment. After party at UAW Union Hall 3562 Gillespie Dr\, York\, PA. Event tickets at gate are $20 per person. Gates open at 2pm and is running until 9pm. Bands in attendance include Prison Earth\, Fade to Black and Time Bomb. This event is rain or shine and 21+
X-ALT-DESC;FMTTYPE=text/html:<span style="color:rgb(102\, 106\, 115)\; font-family:benton sans\,helvetica neue\,helvetica\,roboto\,arial\,sans-serif\; font-size:15px">We are holding this event to raise money for the packages we send to deployed troops and to fill the backpacks for homeless veterans. Meet at Dylan&#39\;s of East Berlin (321 Harrisburg St\, East Berlin\, PA). Registration starts at 10am. Kickstands up at noon. $20 per person registers you for the ride and gets you into the after party for food and entertainment. After party at UAW Union Hall 3562 Gillespie Dr\, York\, PA. Event tickets at gate are $20 per person. Gates open at 2pm and is running until 9pm. Bands in attendance include Prison Earth\, Fade to Black and Time Bomb. This event is rain or shine and 21+</span>
LOCATION:UAW Hall 3562 Gillespie Drive York\, PA 17404
UID:e.1500.4196
SEQUENCE:3
DTSTAMP:20260420T195845Z
URL:https://business.mainstreethanover.org/events/details/service-sacrifice-ride-4196
END:VEVENT

END:VCALENDAR
