BEGIN:VCALENDAR
VERSION:2.0
PRODID:-//ChamberMaster//Event Calendar 2.0//EN
METHOD:PUBLISH
X-PUBLISHED-TTL:P3D
REFRESH-INTERVAL:P3D
CALSCALE:GREGORIAN
BEGIN:VEVENT
DTSTART:20180531T153000Z
DTEND:20180531T180000Z
X-MICROSOFT-CDO-ALLDAYEVENT:FALSE
SUMMARY:Sexual Harassment Claims: What You Need to Know About Investigation & Prevention
DESCRIPTION:Join Stock and Leader's Employment Law Group for a lunch program addressing workplace sexual harassment claims and best practices for investigation and prevention.\n\n11:30 a.m. - 12:00 p.m. Lunch\n\n12:00 p.m. - 2:00 p.m. Program\n\nTopics include:\n\n\n	A Detailed Review of Investigation Procedures and Techniques\n	Zero Tolerance and Leadership by Example\n\n\n$50 registration fee and registration required by May 24.\n\nThis program may be submitted for SHRM credits.\n\nThis program has been submitted to the HR Certification Institute for Review.\n\nNo-shows will not be refunded but will receive program materials.
X-ALT-DESC;FMTTYPE=text/html:<p>Join Stock and Leader&rsquo\;s Employment Law Group for a lunch program addressing workplace sexual harassment claims and best practices for investigation and prevention.</p>\n\n<p>11:30 a.m. - 12:00 p.m. Lunch<br />\n12:00 p.m. - 2:00 p.m. Program</p>\n\n<p><strong>Topics include:</strong></p>\n\n<ul>\n	<li>A Detailed Review of Investigation Procedures and Techniques</li>\n	<li>Zero Tolerance and Leadership by Example</li>\n</ul>\n\n<p><em><strong>$50 registration fee and registration required by May 24.</strong></em></p>\n\n<p><em>This program may be submitted for SHRM credits.</em></p>\n\n<p><em>This program has been submitted to the HR Certification Institute for Review.</em></p>\n\n<p><em>No-shows will not be refunded but will receive program materials.</em></p>\n
LOCATION:Country Club of York 1400 Country Club Road York\, PA 17403
UID:e.1500.4222
SEQUENCE:3
DTSTAMP:20260420T215640Z
URL:https://business.mainstreethanover.org/events/details/sexual-harassment-claims-what-you-need-to-know-about-investigation-prevention-4222
END:VEVENT

END:VCALENDAR
