BEGIN:VCALENDAR
VERSION:2.0
PRODID:-//ChamberMaster//Event Calendar 2.0//EN
METHOD:PUBLISH
X-PUBLISHED-TTL:P3D
REFRESH-INTERVAL:P3D
CALSCALE:GREGORIAN
BEGIN:VEVENT
DTSTART;VALUE=DATE:20160201
DTEND;VALUE=DATE:20160301
TRANSP:TRANSPARENT
X-MICROSOFT-CDO-ALLDAYEVENT:TRUE
SUMMARY:Share Your Love Event at Furs By Susan
DESCRIPTION:February is the month of love and we are again supporting the Hanover area YWCA Safe Home Program.\n\nBring in 6 non perishable food or feminine items and you will receive 50% * off your shopping day.  Also\, register to win a $50.00 gift certificate. Offer expires Feb 29 2016.\n\nLet's Count Our Blessings\, Show You Care and Share Your Love.
X-ALT-DESC;FMTTYPE=text/html:<span style="font-family:times new roman\;"><span style="font-size:16px\;">&nbsp\;<span style="color:#AC193D\;">February is the month of love and we are again supporting the Hanover area YWCA Safe Home Program.<br />\nBring in<u> 6</u> non perishable food or feminine items and you will receive 50% </span><span style="color:#666666\;">* </span></span><span style="color:#AC193D\;"><span style="font-size:16.0pt\;"><span style="font-size:16px\;">off your shopping day.&nbsp\; Also\, register to win a $50.00 gift certificate. Offer expires Feb 29 2016.<br />\nLet&#39\;s Count Our Blessings\, Show You Care and<span style="font-size:14px\;"> </span></span><span style="font-size:14px\;">Share Your Love.</span></span></span></span><br />\n&nbsp\;
LOCATION:1 Frederick Street Hanover Pa. 17331 www.fursbysusan.com
UID:e.1500.1051
SEQUENCE:3
DTSTAMP:20260422T172124Z
URL:https://business.mainstreethanover.org/events/details/share-your-love-event-at-furs-by-susan-02-01-2016-1051
END:VEVENT

END:VCALENDAR
