BEGIN:VCALENDAR
VERSION:2.0
PRODID:-//ChamberMaster//Event Calendar 2.0//EN
METHOD:PUBLISH
X-PUBLISHED-TTL:P3D
REFRESH-INTERVAL:P3D
CALSCALE:GREGORIAN
BEGIN:VEVENT
DTSTART:20161018T114500Z
DTEND:20161018T180000Z
X-MICROSOFT-CDO-ALLDAYEVENT:FALSE
SUMMARY:Small Business Initiative at York College
DESCRIPTION:LOOKING FOR SUCCESS?\n\nYou can fi nd it at the\n\nSmall Business Initiative Workshop!\n\nOver 90 percent of attendees rated this event as extremely\n\nor very helpful! And 99 percent said they would recommend\n\na Small Business Initiative to a colleague.\n\n"This was an outstanding event and I'm thoroughly\n\nimpressed by the quality of the speakers and attendees.\n\nThank you!!"\n\n"The follow-up interaction with Timothy Reese was\n\nfascinating. I couldn't quit talking about this as it hit on\n\ntopics very dear to me."\n\n"This event was\n\noutstanding.\n\nKeep up the good\n\nwork!"\n\n"I got a lot more out\n\nof this event than\n\nI expected to.\n\nThe networking\n\nwas key."
X-ALT-DESC;FMTTYPE=text/html:LOOKING FOR SUCCESS?<br />\nYou can fi nd it at the<br />\nSmall Business Initiative Workshop!<br />\nOver 90 percent of attendees rated this event as extremely<br />\nor very helpful! And 99 percent said they would recommend<br />\na Small Business Initiative to a colleague.<br />\n&ldquo\;This was an outstanding event and I&rsquo\;m thoroughly<br />\nimpressed by the quality of the speakers and attendees.<br />\nThank you!!&rdquo\;<br />\n&ldquo\;The follow-up interaction with Timothy Reese was<br />\nfascinating. I couldn&rsquo\;t quit talking about this as it hit on<br />\ntopics very dear to me.&rdquo\;<br />\n&ldquo\;This event was<br />\noutstanding.<br />\nKeep up the good<br />\nwork!&rdquo\;<br />\n&ldquo\;I got a lot more out<br />\nof this event than<br />\nI expected to.<br />\nThe networking<br />\nwas key.&rdquo\;
LOCATION:
UID:e.1500.2262
SEQUENCE:3
DTSTAMP:20260422T053454Z
URL:https://business.mainstreethanover.org/events/details/small-business-initiative-at-york-college-2262
END:VEVENT

END:VCALENDAR
