BEGIN:VCALENDAR
VERSION:2.0
PRODID:-//ChamberMaster//Event Calendar 2.0//EN
METHOD:PUBLISH
X-PUBLISHED-TTL:P3D
REFRESH-INTERVAL:P3D
CALSCALE:GREGORIAN
BEGIN:VEVENT
DTSTART:20160922T123000Z
DTEND:20160922T193000Z
X-MICROSOFT-CDO-ALLDAYEVENT:FALSE
SUMMARY:Solution-Focused Counseling in Schools: Practical Skills & Strategies
DESCRIPTION:Solution-Focused Counseling (SFC) is a client-directed\, research-supported approach to building efficient solutions by honoring the unique strengths\, resources\, and involvement of young people and their caregivers. This workshop provides six (6) coninuing education credits\, and provices practical skills and strategies of SFC that participants can apply the very next day on the job. BROCHURE: http://cognitivehealthsolutions.com/mental-health-providers/wp-content/uploads/sites/2/2016/06/SFC-LIU-Program-Brochure.pdf REGISTRATION FORM: http://cognitivehealthsolutions.com/mental-health-providers/wp-content/uploads/sites/2/2016/06/SFC-LIU-Registration-Form.pdf IF YOU'RE A PROVIDER\, VISIT: http://cognitivehealthsolutions.com/mental-health-providers/
X-ALT-DESC;FMTTYPE=text/html:Solution-Focused Counseling (SFC) is a client-directed\, research-supported approach to building efficient solutions by honoring the unique strengths\, resources\, and involvement of young people and their caregivers. This workshop provides six (6) coninuing education credits\, and provices practical skills and strategies of SFC that participants can apply the very next day on the job. BROCHURE: http://cognitivehealthsolutions.com/mental-health-providers/wp-content/uploads/sites/2/2016/06/SFC-LIU-Program-Brochure.pdf REGISTRATION FORM: http://cognitivehealthsolutions.com/mental-health-providers/wp-content/uploads/sites/2/2016/06/SFC-LIU-Registration-Form.pdf IF YOU&#39\;RE A PROVIDER\, VISIT: http://cognitivehealthsolutions.com/mental-health-providers/
LOCATION:Lincoln Intermediate Unit 12 65 Billerbeck Street New Oxford\, PA 17350
UID:e.1500.1171
SEQUENCE:3
DTSTAMP:20260422T071315Z
URL:https://business.mainstreethanover.org/events/details/solution-focused-counseling-in-schools-practical-skills-strategies-09-22-2016-1171
END:VEVENT

END:VCALENDAR
