BEGIN:VCALENDAR
VERSION:2.0
PRODID:-//ChamberMaster//Event Calendar 2.0//EN
METHOD:PUBLISH
X-PUBLISHED-TTL:P3D
REFRESH-INTERVAL:P3D
CALSCALE:GREGORIAN
BEGIN:VEVENT
DTSTART;VALUE=DATE:20180103
DTEND;VALUE=DATE:20180107
TRANSP:TRANSPARENT
X-MICROSOFT-CDO-ALLDAYEVENT:TRUE
SUMMARY:South Western High art show
DESCRIPTION:Sixteen South Western High juniors and seniors will exhibit artwork as part of their final exam for Drawing and Painting IV. The show\, at Art Downtown\, 32 Carlisle St.\, Hanover\, is set for Jan. 3-6. A public reception is set for 7-9 p.m. Jan. 5. Each student will show a series of paintings or photographs that tell a story or are connected in some way.\n\n\n\nThe students began working on the project over the summer and have continued their work this fall. They also will install the work in the Art Downtown gallery as part of their project.\n\n\n\nThe exhibit can be seen 10 a.m.-5 p.m. Wednesday-Thursday Jan. 3-4\; 10 a.m.-9 p.m. Friday\, Jan. 5\; and 10 a.m.-3 p.m. Saturday\, Jan. 6. The gallery is always free.
X-ALT-DESC;FMTTYPE=text/html:<span style="color:black"><span style="font-family:arial"><span style="font-size:13.5pt">Sixteen South Western High juniors and seniors will exhibit artwork as part of their final exam for Drawing and Painting IV. The show\, at Art Downtown\, 32 Carlisle St.\, Hanover\, is set for Jan. 3-6. A public reception is set for 7-9 p.m. Jan. 5. Each student will show a series of paintings or photographs that tell a story or are connected in some way.<br />\n<br />\nThe students began working on the project over the summer and have continued their work this fall. They also will install the work in the Art Downtown gallery as part of their project.<br />\n<br />\nThe exhibit can be seen 10 a.m.-5 p.m. Wednesday-Thursday Jan. 3-4\; 10 a.m.-9 p.m. Friday\, Jan. 5\; and 10 a.m.-3 p.m. Saturday\, Jan. 6. The gallery is always free.</span></span></span>
LOCATION:32 Carlisle St.\, Hanover--just steps off the Square!
UID:e.1500.3122
SEQUENCE:3
DTSTAMP:20260421T043935Z
URL:https://business.mainstreethanover.org/events/details/south-western-high-art-show-3122
END:VEVENT

END:VCALENDAR
