BEGIN:VCALENDAR
VERSION:2.0
PRODID:-//ChamberMaster//Event Calendar 2.0//EN
METHOD:PUBLISH
X-PUBLISHED-TTL:P3D
REFRESH-INTERVAL:P3D
CALSCALE:GREGORIAN
BEGIN:VEVENT
DTSTART;VALUE=DATE:20160618
DTEND;VALUE=DATE:20160619
TRANSP:TRANSPARENT
X-MICROSOFT-CDO-ALLDAYEVENT:TRUE
SUMMARY:SPCA Birthday Bash
DESCRIPTION:The Adams County Winery will host the Seventh Annual Rusty's Birthday Bash on Saturday\, June 18\, 2016. This year's Birthday Bash will feature live music\, a birthday cake especially made for Rusty and guests\, a Doggie Wine Walk\, hot dog cookout\, Rusty's Sidekick Contest\, and much more.\n\nFor more information visit www.adamscountrywinery.com
X-ALT-DESC;FMTTYPE=text/html:<span style="font-family:calibri\,sans-serif\;"><span style="font-size:11.0pt\;">The Adams County Winery will host the Seventh Annual Rusty&rsquo\;s Birthday Bash on Saturday\, June 18\, 2016. This year&rsquo\;s Birthday Bash will feature live music\, a birthday cake especially made for Rusty and guests\, a Doggie Wine Walk\, hot dog cookout\, Rusty&rsquo\;s Sidekick Contest\, and much more.<br />\nFor more information visit <a href="http://www.adamscountywinery.com">www.adamscountrywinery.com&nbsp\;</a></span></span>
LOCATION:Adams County Winery 251 Peach Tree Rd. Orrtanna\, PA 17353
UID:e.1500.1071
SEQUENCE:3
DTSTAMP:20260422T101132Z
URL:https://business.mainstreethanover.org/events/details/spca-birthday-bash-06-18-2016-1071
END:VEVENT

END:VCALENDAR
