BEGIN:VCALENDAR
VERSION:2.0
PRODID:-//ChamberMaster//Event Calendar 2.0//EN
METHOD:PUBLISH
X-PUBLISHED-TTL:P3D
REFRESH-INTERVAL:P3D
CALSCALE:GREGORIAN
BEGIN:VEVENT
DTSTART:20171217T230000Z
DTEND:20171218T020000Z
X-MICROSOFT-CDO-ALLDAYEVENT:FALSE
SUMMARY:St. Paul's Live Nativity
DESCRIPTION:Come see the live animals\, sing carols with our musicians and watch our production of The Live Nativity.\n\n\n\nFollowing each production\, tour our sanctuary and enjoy refreshments in our lounge.
X-ALT-DESC;FMTTYPE=text/html:Come see the live animals\, sing carols with our musicians and watch our production of The Live Nativity.<br />\n<br />\nFollowing each production\, tour our sanctuary and enjoy refreshments in our lounge.&nbsp\;
LOCATION:St. Paul's Lutheran Church 127 York St. Hanover\, PA 17331
UID:e.1500.3100
SEQUENCE:3
DTSTAMP:20260421T060805Z
URL:https://business.mainstreethanover.org/events/details/st-paul-s-live-nativity-3100
END:VEVENT

END:VCALENDAR
