BEGIN:VCALENDAR
VERSION:2.0
PRODID:-//ChamberMaster//Event Calendar 2.0//EN
METHOD:PUBLISH
X-PUBLISHED-TTL:P3D
REFRESH-INTERVAL:P3D
CALSCALE:GREGORIAN
BEGIN:VEVENT
DTSTART:20161007T130000Z
DTEND:20161007T160000Z
X-MICROSOFT-CDO-ALLDAYEVENT:FALSE
SUMMARY:St. Paul's Used Book Sale
DESCRIPTION:Proceeds Benefit St. Paul's Youth Program.
X-ALT-DESC;FMTTYPE=text/html:Proceeds Benefit St. Paul&#39\;s Youth Program.
LOCATION:St. Paul's Lutheran Church Fellowship Hall 127 York St. Hanover\, PA 17331
UID:e.1500.1252
SEQUENCE:3
DTSTAMP:20260422T053350Z
URL:https://business.mainstreethanover.org/events/details/st-paul-s-used-book-sale-1252
END:VEVENT

END:VCALENDAR
