BEGIN:VCALENDAR
VERSION:2.0
PRODID:-//ChamberMaster//Event Calendar 2.0//EN
METHOD:PUBLISH
X-PUBLISHED-TTL:P3D
REFRESH-INTERVAL:P3D
CALSCALE:GREGORIAN
BEGIN:VEVENT
DTSTART:20150606T150000Z
DTEND:20150606T180000Z
X-MICROSOFT-CDO-ALLDAYEVENT:FALSE
SUMMARY:Strawberry Festival
DESCRIPTION:Strawberries over ice cream\, quart jars of strawberries\, hot dogs\, bottled water\, sodas\, baked goods and more.  Take a summer afternoon break under the big tent on McCosh St.
X-ALT-DESC;FMTTYPE=text/html:<span style="font-size: 12pt\;"><span style="font-family: times new roman\,serif\;"><span style="color: black\;">Strawberries over ice cream\, quart jars of strawberries\, hot dogs\, bottled water\, sodas\, baked goods and more.&nbsp\; Take a summer afternoon break under the big tent on McCosh St.&nbsp\; </span></span></span>
LOCATION:All Saints Episcopal Church\, 890 McCosh St. 637-5772
UID:e.1500.928
SEQUENCE:3
DTSTAMP:20260423T042013Z
URL:https://business.mainstreethanover.org/events/details/strawberry-festival-06-06-2015-928
END:VEVENT

END:VCALENDAR
