BEGIN:VCALENDAR
VERSION:2.0
PRODID:-//ChamberMaster//Event Calendar 2.0//EN
METHOD:PUBLISH
X-PUBLISHED-TTL:P3D
REFRESH-INTERVAL:P3D
CALSCALE:GREGORIAN
BEGIN:VEVENT
DTSTART:20150706T140000Z
DTEND:20150709T190000Z
X-MICROSOFT-CDO-ALLDAYEVENT:FALSE
SUMMARY:Summer Audio Camp
DESCRIPTION:Our instructors will guide you through the major steps of the recording process with a band on hand for recording during their studio session time.
X-ALT-DESC;FMTTYPE=text/html:Our instructors will guide you through the major steps of the recording process with a band on hand for recording during their studio session time.
LOCATION:Academy for Media Production 238 Main Street McSherrystown\, PA 17344
UID:e.1500.935
SEQUENCE:3
DTSTAMP:20260423T021850Z
URL:https://business.mainstreethanover.org/events/details/summer-audio-camp-07-06-2015-935
END:VEVENT

END:VCALENDAR
