BEGIN:VCALENDAR
VERSION:2.0
PRODID:-//ChamberMaster//Event Calendar 2.0//EN
METHOD:PUBLISH
X-PUBLISHED-TTL:P3D
REFRESH-INTERVAL:P3D
CALSCALE:GREGORIAN
BEGIN:VEVENT
DTSTART:20150704T180000Z
DTEND:20150704T210000Z
X-MICROSOFT-CDO-ALLDAYEVENT:FALSE
SUMMARY:Summer Concert Series at Adams County Winery featuring The Willys
DESCRIPTION:Join us at the farm winery every Saturday in July and August to enjoy free music\, relax\, dance\, eat\, and of course\, drink your favorite Adams County Winery wine! Bring your family\, your friends\, your dog\, or even a hot date - just a suggestion. Come and help us celebrate the 4th and kick off the Summer Concert series while listening to classic rock performed by The Willys. Music is from 2:00pm-5:00pm. This family friendly event occurs rain or shine. We have covered areas with tables for our guests to enjoy. Adams County Winery has been making wine for forty years. During that time\, the business has grown from a mom-and-pop business to a nationally recognized producer of award-winning wines. The winery offers a fun\, inviting\, and relaxed atmosphere where anyone ? locals and tourists alike ? can feel at home. The Farm Winery is located at 251 Peach Tree Road in Orrtanna\, just 15 minutes west of Gettysburg\, and is open every day from 10 a.m. to 6 p.m. For more information about Adams County Winery\, visit our website at www.AdamsCountyWinery.com or call 717-334-4631.
X-ALT-DESC;FMTTYPE=text/html:Join us at the farm winery every Saturday in July and August to enjoy free music\, relax\, dance\, eat\, and of course\, drink your favorite Adams County Winery wine! Bring your family\, your friends\, your dog\, or even a hot date - just a suggestion. Come and help us celebrate the 4th and kick off the Summer Concert series while listening to classic rock performed by The Willys. Music is from 2:00pm-5:00pm. This family friendly event occurs rain or shine. We have covered areas with tables for our guests to enjoy. Adams County Winery has been making wine for forty years. During that time\, the business has grown from a mom-and-pop business to a nationally recognized producer of award-winning wines. The winery offers a fun\, inviting\, and relaxed atmosphere where anyone ? locals and tourists alike ? can feel at home. The Farm Winery is located at 251 Peach Tree Road in Orrtanna\, just 15 minutes west of Gettysburg\, and is open every day from 10 a.m. to 6 p.m. For more information about Adams County Winery\, visit our website at www.AdamsCountyWinery.com or call 717-334-4631.
LOCATION:Adams County Winery 251 Peach Tree Rd Orrtanna\, PA 17353
UID:e.1500.883
SEQUENCE:3
DTSTAMP:20260423T023247Z
URL:https://business.mainstreethanover.org/events/details/summer-concert-series-at-adams-county-winery-featuring-the-willys-07-04-2015-883
END:VEVENT

END:VCALENDAR
