BEGIN:VCALENDAR
VERSION:2.0
PRODID:-//ChamberMaster//Event Calendar 2.0//EN
METHOD:PUBLISH
X-PUBLISHED-TTL:P3D
REFRESH-INTERVAL:P3D
CALSCALE:GREGORIAN
BEGIN:VEVENT
DTSTART:20150713T140000Z
DTEND:20150716T190000Z
X-MICROSOFT-CDO-ALLDAYEVENT:FALSE
SUMMARY:Summer Photography Camp
DESCRIPTION:Students will walk away with a solid understanding of the photographic process and a portfolio of stunning images.
X-ALT-DESC;FMTTYPE=text/html:Students will walk away with a solid understanding of the photographic process and a portfolio of stunning images.
LOCATION:Academy for Media Production 238 Main Street McSherrystown\, PA 17344
UID:e.1500.936
SEQUENCE:3
DTSTAMP:20260423T040202Z
URL:https://business.mainstreethanover.org/events/details/summer-photography-camp-07-13-2015-936
END:VEVENT

END:VCALENDAR
