BEGIN:VCALENDAR
VERSION:2.0
PRODID:-//ChamberMaster//Event Calendar 2.0//EN
METHOD:PUBLISH
X-PUBLISHED-TTL:P3D
REFRESH-INTERVAL:P3D
CALSCALE:GREGORIAN
BEGIN:VEVENT
DTSTART:20150201T180000Z
DTEND:20150222T210000Z
X-MICROSOFT-CDO-ALLDAYEVENT:FALSE
SUMMARY:Sweet Sunday at Adams County Winery
DESCRIPTION:Come out and enjoy a sweet dessert paired with your favorite wine. Each Sunday will feature a choice of one of 3 desserts with a suggested wine pairing but guests can change to a pairing of their choice.
X-ALT-DESC;FMTTYPE=text/html:Come out and enjoy a sweet dessert paired with your favorite wine. Each Sunday will feature a choice of one of 3 desserts with a suggested wine pairing but guests can change to a pairing of their choice.
LOCATION:Adams County Winery\, 251 Peach Tree Rd\, Orrtanna PA 17353
UID:e.1500.783
SEQUENCE:3
DTSTAMP:20260425T110447Z
URL:https://business.mainstreethanover.org/events/details/sweet-sunday-at-adams-county-winery-02-01-2015-783
END:VEVENT

END:VCALENDAR
