BEGIN:VCALENDAR
VERSION:2.0
PRODID:-//ChamberMaster//Event Calendar 2.0//EN
METHOD:PUBLISH
X-PUBLISHED-TTL:P3D
REFRESH-INTERVAL:P3D
CALSCALE:GREGORIAN
BEGIN:VEVENT
DTSTART:20151003T130000Z
DTEND:20151004T210000Z
X-MICROSOFT-CDO-ALLDAYEVENT:FALSE
SUMMARY:The 18th Annual Women's Show
DESCRIPTION:The 18th Annual Women's Show October 3 & 4\, 2015 Memorial Hospital presents The Peak 98.5/MediaOnePA Women's Show\, October 3 & 4 at the York Expo Center. It's two days of shopping\, entertainment\, exhibits\, education and more\, specifically geared to the interests of women. Hours are 9 a.m. to 5 p.m. Saturday and 11 a.m. to 5 p.m. Sunday. For more information\, visit www.thepeak985.com\, or call 717-792-0098 or 717-637-3831.
X-ALT-DESC;FMTTYPE=text/html:The 18th Annual Women&#39\;s Show October 3 &amp\; 4\, 2015 Memorial Hospital presents The Peak 98.5/MediaOnePA Women&#39\;s Show\, October 3 &amp\; 4 at the York Expo Center. It&#39\;s two days of shopping\, entertainment\, exhibits\, education and more\, specifically geared to the interests of women. Hours are 9 a.m. to 5 p.m. Saturday and 11 a.m. to 5 p.m. Sunday. For more information\, visit www.thepeak985.com\, or call 717-792-0098 or 717-637-3831.
LOCATION:Memorial Hall\, York Expo Center 334 Carlisle Avenue York\, PA 17404
UID:e.1500.816
SEQUENCE:3
DTSTAMP:20260422T220115Z
URL:https://business.mainstreethanover.org/events/details/the-18th-annual-women-s-show-10-03-2015-816
END:VEVENT

END:VCALENDAR
