BEGIN:VCALENDAR
VERSION:2.0
PRODID:-//ChamberMaster//Event Calendar 2.0//EN
METHOD:PUBLISH
X-PUBLISHED-TTL:P3D
REFRESH-INTERVAL:P3D
CALSCALE:GREGORIAN
BEGIN:VEVENT
DTSTART;VALUE=DATE:20161121
DTEND;VALUE=DATE:20161122
TRANSP:TRANSPARENT
X-MICROSOFT-CDO-ALLDAYEVENT:TRUE
SUMMARY:The 22nd class of Forty Under 40
DESCRIPTION:Harrisburg\, PA (August 24\, 2016)   The 22nd class of Forty Under 40 award recipients has been announced. All forty business leaders are under the age of 40 and were chosen because of their commitment to business growth\, professional excellence and community services in Central Pennsylvania.\n\nA judging panel comprised of past Forty Under 40 award recipients\, reviewed and scored the nominees to determine the top forty list. The complete list of winners follows this release.\n\nThe theme of this year's event is "Central PA All Stars." Our honorees will have the chance to represent their favorite team in a photoshoot next month.\n\nAn awards reception will be held on Monday\, November 21\, 2016\, at the Hilton Harrisburg to recognize the honorees. The event is open to the public and tickets can be purchased online at www.CPBJ.com/events.\n\nThe award recipients will also be featured in a special publication inserted in the November 25 edition of the Central Penn Business Journal.\n\nThe 2016 Forty Under 40 Awards is a program of the Central Penn Business Journal and is sponsored by Infiniti of Mechanicsburg\, The Hill Society at the Hilton Harrisburg\, Members 1st FCU\, Harrisburg University and Classic Drycleaners & Laundromats.
X-ALT-DESC;FMTTYPE=text/html:Harrisburg\, PA (August 24\, 2016) &ndash\; The 22nd class of Forty Under 40 award recipients has been announced. All forty business leaders are under the age of 40 and were chosen because of their commitment to business growth\, professional excellence and community services in Central Pennsylvania.<br />\nA judging panel comprised of past Forty Under 40 award recipients\, reviewed and scored the nominees to determine the top forty list. The complete list of winners follows this release.<br />\nThe theme of this year&rsquo\;s event is &ldquo\;Central PA All Stars.&rdquo\; Our honorees will have the chance to represent their favorite team in a photoshoot next month.<br />\nAn awards reception will be held on Monday\, November 21\, 2016\, at the Hilton Harrisburg to recognize the honorees. The event is open to the public and tickets can be purchased online at www.CPBJ.com/events.<br />\nThe award recipients will also be featured in a special publication inserted in the November 25 edition of the Central Penn Business Journal.<br />\nThe 2016 Forty Under 40 Awards is a program of the Central Penn Business Journal and is sponsored by Infiniti of Mechanicsburg\, The Hill Society at the Hilton Harrisburg\, Members 1st FCU\, Harrisburg University and Classic Drycleaners &amp\; Laundromats.
LOCATION:Hilton Harrisburg
UID:e.1500.1236
SEQUENCE:3
DTSTAMP:20260422T021852Z
URL:https://business.mainstreethanover.org/events/details/the-22nd-class-of-forty-under-40-1236
END:VEVENT

END:VCALENDAR
