BEGIN:VCALENDAR
VERSION:2.0
PRODID:-//ChamberMaster//Event Calendar 2.0//EN
METHOD:PUBLISH
X-PUBLISHED-TTL:P3D
REFRESH-INTERVAL:P3D
CALSCALE:GREGORIAN
BEGIN:VEVENT
DTSTART;VALUE=DATE:20150606
DTEND;VALUE=DATE:20150607
TRANSP:TRANSPARENT
X-MICROSOFT-CDO-ALLDAYEVENT:TRUE
SUMMARY:The Grand Ascent
DESCRIPTION:Friday June 12\n\nThe Grand Ascent\n\nA Vintage Hill Climb\n\n10:00 AM   4:00 PM\n\nLocated on the challenging Hershey Hill Climb Course behind the historic Hotel Hershey\, The Grand Ascent is a two day vintage hill climb exhibition sanctioned by the Vintage Sports Car Club of America (VSCCA). This exciting hill climb expedition appeals to enthusiasts and curious spectators alike. Stop by to shop our vendor's midway\, see special car exhibits\, ride in a vintage race car and more!
X-ALT-DESC;FMTTYPE=text/html:<p class="MsoNormal"><strong><u><span style="font-size:10.5pt\;line-height:107%\;\nfont-family:&quot\;Arial&quot\;\,sans-serif\;color:#1C1C1C\;border:none windowtext 1.0pt\;\nmso-border-alt:none windowtext 0in\;padding:0in">Friday June 12</span></u></strong><br />\n<strong><span style="font-size: 10.5pt\; line-height: 107%\; font-family: Arial\, sans-serif\; color: rgb(28\, 28\, 28)\; border: 1pt none windowtext\; padding: 0in\; background-image: initial\; background-attachment: initial\; background-size: initial\; background-origin: initial\; background-clip: initial\; background-position: initial\; background-repeat: initial\;">The Grand Ascent</span></strong><br />\n<strong><span style="font-size: 10.5pt\; line-height: 107%\; font-family: Arial\, sans-serif\; color: rgb(28\, 28\, 28)\; border: 1pt none windowtext\; padding: 0in\; background-image: initial\; background-attachment: initial\; background-size: initial\; background-origin: initial\; background-clip: initial\; background-position: initial\; background-repeat: initial\;">A Vintage Hill Climb</span></strong><br />\n<span style="font-size: 10.5pt\; line-height: 107%\; font-family: Arial\, sans-serif\; color: black\; background-image: initial\; background-attachment: initial\; background-size: initial\; background-origin: initial\; background-clip: initial\; background-position: initial\; background-repeat: initial\;">10:00 AM &ndash\; 4:00 PM</span><br />\n<span style="font-size:10.5pt\;line-height:107%\;font-family:&quot\;Arial&quot\;\,sans-serif\;\ncolor:black\;mso-themecolor:text1"><span style="background-image: initial\; background-attachment: initial\; background-size: initial\; background-origin: initial\; background-clip: initial\; background-position: initial\; background-repeat: initial\;">Located on the challenging Hershey Hill Climb Course behind the historic Hotel Hershey\, The Grand Ascent is a two day vintage hill climb exhibition sanctioned by the Vintage Sports Car Club of America (VSCCA). This exciting hill climb expedition appeals to enthusiasts and curious spectators alike. Stop by to shop our vendor&rsquo\;s midway\, see special car exhibits\, ride in a vintage race car and more!</span></span><span style="font-size: 10.5pt\; line-height: 107%\; font-family: Arial\, sans-serif\; color: rgb(85\, 85\, 85)\; background-image: initial\; background-attachment: initial\; background-size: initial\; background-origin: initial\; background-clip: initial\; background-position: initial\; background-repeat: initial\;"><o:p></o:p></span></p>\n
LOCATION:The Hotel Hershey 100 Hotel Road
UID:e.1500.858
SEQUENCE:3
DTSTAMP:20260423T040236Z
URL:https://business.mainstreethanover.org/events/details/the-grand-ascent-06-06-2015-858
END:VEVENT

END:VCALENDAR
