BEGIN:VCALENDAR
VERSION:2.0
PRODID:-//ChamberMaster//Event Calendar 2.0//EN
METHOD:PUBLISH
X-PUBLISHED-TTL:P3D
REFRESH-INTERVAL:P3D
CALSCALE:GREGORIAN
BEGIN:VEVENT
DTSTART:20150920T180000Z
DTEND:20150920T210000Z
X-MICROSOFT-CDO-ALLDAYEVENT:FALSE
SUMMARY:The Guthrie Memorial Library: Honors Ceremony
DESCRIPTION:The Guthrie Memorial Library Honors Ceremony
X-ALT-DESC;FMTTYPE=text/html:The Guthrie Memorial Library Honors Ceremony
LOCATION:The Guthrie Memorial Library 2 Library Place Hanover\, PA 17331
UID:e.1500.841
SEQUENCE:3
DTSTAMP:20260422T231655Z
URL:https://business.mainstreethanover.org/events/details/the-guthrie-memorial-library-honors-ceremony-09-20-2015-841
END:VEVENT

END:VCALENDAR
