BEGIN:VCALENDAR
VERSION:2.0
PRODID:-//ChamberMaster//Event Calendar 2.0//EN
METHOD:PUBLISH
X-PUBLISHED-TTL:P3D
REFRESH-INTERVAL:P3D
CALSCALE:GREGORIAN
BEGIN:VEVENT
DTSTART:20181106T000000Z
DTEND:20181106T020000Z
X-MICROSOFT-CDO-ALLDAYEVENT:FALSE
SUMMARY:The Hanover Area Historical Society: The Great War
DESCRIPTION:The Hanover Area Historical Society\n \n\nThe Great War\n\n\nThis year marks the 100th Anniversary of World War I. It was a war that involved all of Europe\, Eastern Europe\, and colonies of the countries at war. It was the first war to introduce air and chemical warfare\, gas masks\, tanks\, flamethrowers\, and grenades. Casualties numbered in the millions. In 1917\, the United States entered the War and President Woodrow Wilson insisted the war must end. He worked out an Armistice with our Allies.\n\n\n\nThe Hanover Area Historical Society is pleased to present a free Martin-Leese Lecture featuring actor Neill Hartley paying tribute to this turbulent period in world history. Please join us on Monday evening\, November 5th at 7:00pm in the Nicarry Auditorium at Cross Keys Village. \n\nvisit us at www.hahs.us
X-ALT-DESC;FMTTYPE=text/html:<h1>The Hanover Area Historical Society</h1>\n&nbsp\;\n\n<h2><u><span style="font-family:times new roman\,serif\;">The Great War</span></u></h2>\n<br />\n<span style="color:#202020\;"><span style="font-family:helvetica\,sans-serif\;"><span style="font-size:12.0pt\;">This year marks the 100th Anniversary of World War I. It was a war that involved all of Europe\, Eastern Europe\, and colonies of the countries at war. It was the first war to introduce air and chemical warfare\, gas masks\, tanks\, flamethrowers\, and grenades. Casualties numbered in the millions. In 1917\, the United States entered the War and President Woodrow Wilson insisted the war must end. He worked out an Armistice with our Allies.<br />\n<br />\nThe Hanover Area Historical Society is pleased to present a free Martin-Leese Lecture featuring actor Neill Hartley paying tribute to this turbulent period in world history. Please join us on Monday evening\,<u> November 5th at 7:00pm in the Nicarry Auditorium at Cross Keys Village.</u> </span></span></span><br />\n<em><span style="color:#202020\;"><span style="font-family:helvetica\,sans-serif\;"><span style="font-size:12.0pt\;">visit us at <a href="http://www.hahs.us"><span style="font-style:normal\;">www.hahs.us</span></a></span></span></span></em>
LOCATION:November 5th at 7:00pm in the Nicarry Auditorium at Cross Keys Village.
UID:e.1500.4331
SEQUENCE:3
DTSTAMP:20260420T115219Z
URL:https://business.mainstreethanover.org/events/details/the-hanover-area-historical-society-the-great-war-4331
END:VEVENT

END:VCALENDAR
