BEGIN:VCALENDAR
VERSION:2.0
PRODID:-//ChamberMaster//Event Calendar 2.0//EN
METHOD:PUBLISH
X-PUBLISHED-TTL:P3D
REFRESH-INTERVAL:P3D
CALSCALE:GREGORIAN
BEGIN:VEVENT
DTSTART:20180925T223000Z
DTEND:20180926T000000Z
X-MICROSOFT-CDO-ALLDAYEVENT:FALSE
SUMMARY:The Martin Leese Lecture Program of the Hanover Area Historical Society: History of America's Great Seed Companies
DESCRIPTION:The Martin Leese Lecture Program of the\n\nHanover Area Historical Society\n\npresents a\n\n "History of America's Great Seed Companies"\n(Landreth Seeds)\n\nBarbara Melera\, Historian\, Gardener\n\nTuesday\, September 25\, 6:30 PM at\n\nthe Warehime-Myers Mansion. 305 Baltimore Street\n\nHanover\, PA \n\nAdmission is free and open to the public.
X-ALT-DESC;FMTTYPE=text/html:<h3 align="center" style="text-align:center\;">The Martin Leese Lecture Program of the<br />\nHanover Area Historical Society<br />\npresents a<br />\n&nbsp\;&quot\;History of America&#39\;s Great Seed Companies&quot\;</h3>\n<span style="color:#202020\;"><span style="font-family:helvetica\,sans-serif\;"><span style="font-size:12.0pt\;">(Landreth Seeds)</span></span></span><br />\n<span style="color:#202020\;"><span style="font-family:helvetica\,sans-serif\;"><span style="font-size:12.0pt\;">Barbara Melera\, Historian\, Gardener</span></span></span><br />\n<span style="color:#202020\;"><span style="font-family:times new roman\,serif\;"><span style="font-size:13.5pt\;">Tuesday\, September 25\, 6:30&nbsp\;PM at<br />\nthe Warehime-Myers Mansion. 305 Baltimore Street<br />\nHanover\, PA&nbsp\;<br />\nAdmission is free and open to the public.</span></span></span>
LOCATION:Warehime-Myers Mansion. 305 Baltimore Street Hanover\, PA
UID:e.1500.4318
SEQUENCE:3
DTSTAMP:20260420T151236Z
URL:https://business.mainstreethanover.org/events/details/the-martin-leese-lecture-program-of-the-hanover-area-historical-society-history-of-america-s-great-seed-companies-4318
END:VEVENT

END:VCALENDAR
