BEGIN:VCALENDAR
VERSION:2.0
PRODID:-//ChamberMaster//Event Calendar 2.0//EN
METHOD:PUBLISH
X-PUBLISHED-TTL:P3D
REFRESH-INTERVAL:P3D
CALSCALE:GREGORIAN
BEGIN:VEVENT
DTSTART:20151031T123000Z
DTEND:20151031T200000Z
X-MICROSOFT-CDO-ALLDAYEVENT:FALSE
SUMMARY:The Museum of Bus Transportation Annual Meeting
DESCRIPTION:The Museum of Bus Transportation (MBT) holds its Annual Meeting at the AACA Museum this fall. Speaker Jim Lehrer\, former anchor of 'The News Hour'\, will share information with attendees about his family's Central Kansas Bus Lines and other bus-related subjects.\n\nHe will be officially turning the title and ownership of his 1945 Flxible Airporter over to the MBT. The bus will join the exhibit featured in the Museum.\n\nCost:   $35.00 (includes everything )\n\nFor more information and an events overview about this event visit The Bus Museum's website.
X-ALT-DESC;FMTTYPE=text/html:<p style="color: rgb(34\, 34\, 34)\; line-height: normal\; font-family: arial\, sans-serif\; font-size: 12.8px\;">The Museum of Bus Transportation (MBT) holds its Annual Meeting at the AACA Museum this fall. Speaker Jim Lehrer\, former anchor of &lsquo\;The News Hour&rsquo\;\, will share&nbsp\;information&nbsp\;with attendees&nbsp\;about his family&rsquo\;s Central Kansas Bus Lines and other bus-related subjects.</p>\n\n<p style="color: rgb(34\, 34\, 34)\; line-height: normal\; font-family: arial\, sans-serif\; font-size: 12.8px\;">He will be officially turning the title and ownership of his 1945 Flxible Airporter over&nbsp\;to the MBT. The bus will join the exhibit featured&nbsp\;in the&nbsp\;Museum.</p>\n\n<p style="color: rgb(34\, 34\, 34)\; line-height: normal\; font-family: arial\, sans-serif\; font-size: 12.8px\;"><strong>Cost</strong>:&nbsp\;&nbsp\; $35.00 (includes everything )</p>\n\n<p style="color: rgb(34\, 34\, 34)\; line-height: normal\; font-family: arial\, sans-serif\; font-size: 12.8px\;">For more information and an events overview&nbsp\;about this event visit&nbsp\;<a href="http://www.busmuseum.org/Bus_Museum/Current_Activities.html" style="color: rgb(17\, 85\, 204)\;" target="_blank"><font color="#f7a71a">The Bus Museum&rsquo\;s website</font></a>.</p>\n
LOCATION:AACA Museum 161 Museum Drive Hershey\, PA 17033
UID:e.1500.981
SEQUENCE:3
DTSTAMP:20260422T220255Z
URL:https://business.mainstreethanover.org/events/details/the-museum-of-bus-transportation-annual-meeting-10-31-2015-981
END:VEVENT

END:VCALENDAR
