BEGIN:VCALENDAR
VERSION:2.0
PRODID:-//ChamberMaster//Event Calendar 2.0//EN
METHOD:PUBLISH
X-PUBLISHED-TTL:P3D
REFRESH-INTERVAL:P3D
CALSCALE:GREGORIAN
BEGIN:VEVENT
DTSTART:20160629T153000Z
DTEND:20160629T173000Z
X-MICROSOFT-CDO-ALLDAYEVENT:FALSE
SUMMARY:The New Overtime Regulations Under the FLSA
DESCRIPTION:Join Stock and Leader's Employment Group for a lunch program addressing the recent changes to the Fair Labor Standards Act Overtime Rules.\n\n\n\nTopics include:\n\n\n	What are the new overtime rules under the Fair Labor Standards Act?\n	How will the new overtime rules affect your business and your employees?\n	What should employers do now to ensure compliance by the December 1\, 2016\, deadline?\n\n$50.00 registration and reservations required by June 22.\n\n\n\nPlease direct payment to:\n\nStock and Leader\, Attorneys at Law\n\nAttn:  Emily Kustanbauter\n\n221 W. Philadelphia Street\, Suite 600\n\nYork\, PA  17401\n\n\n\nFor credit card payments\, please contact Emily Kustanbauter\, 717.846.9800.\n\n\n\nThis program has been submitted to the HR Certification Institute for Review.\n\n\n\nThis program may be submitted for SHRM credits.\n\n\n\nNo-shows will not be refunded but will receive program materials.
X-ALT-DESC;FMTTYPE=text/html:<span style="color:#333333"><span style="font-family:arial\,sans-serif"><span style="font-size:10.0pt">Join <a href="http://www.stockandleader.com/">Stock and Leader&rsquo\;s</a> <a href="http://www.stockandleader.com/services/businesses-and-entrepreneurs/employment-and-labor-relations.aspx">Employment Group</a> for a lunch program addressing the recent changes to the Fair Labor Standards Act Overtime Rules.</span></span></span><br />\n<br />\n<span style="color:#333333"><span style="font-family:arial\,sans-serif"><span style="font-size:10.0pt">Topics include:</span></span></span>\n\n<ul>\n	<li><span style="font-family:arial\,sans-serif"><span style="font-size:10.0pt">What are the new overtime rules under the Fair Labor Standards Act?</span></span></li>\n	<li><span style="font-family:arial\,sans-serif"><span style="font-size:10.0pt">How will the new overtime rules affect your business and your employees?</span></span></li>\n	<li><span style="font-family:arial\,sans-serif"><span style="font-size:10.0pt">What should employers do now to ensure compliance by the December 1\, 2016\, deadline?</span></span></li>\n</ul>\n<strong><span style="color:#333333"><span style="font-family:arial\,sans-serif"><span style="font-size:10.0pt">$50.00 registration and reservations&nbsp\;required by June 22.</span></span></span></strong><br />\n<br />\n<strong><span style="color:#333333"><span style="font-family:arial\,sans-serif"><span style="font-size:10.0pt">Please direct payment to:</span></span></span></strong><br />\n<span style="color:#333333"><span style="font-family:arial\,sans-serif"><span style="font-size:10.0pt">Stock and Leader\, Attorneys at Law<br />\nAttn: &nbsp\;Emily Kustanbauter<br />\n221 W. Philadelphia Street\, Suite 600<br />\nYork\, PA &nbsp\;17401</span></span></span><br />\n<br />\n<span style="color:#333333"><span style="font-family:arial\,sans-serif"><span style="font-size:10.0pt">For credit card payments\, please contact Emily Kustanbauter\, 717.846.9800.</span></span></span><br />\n<br />\n<em><span style="color:#333333"><span style="font-family:arial\,sans-serif"><span style="font-size:10.0pt">This program has been submitted to the HR Certification Institute for Review.</span></span></span></em><br />\n<br />\n<em><span style="color:#333333"><span style="font-family:arial\,sans-serif"><span style="font-size:10.0pt">This program may be submitted for SHRM credits.</span></span></span></em><br />\n<br />\n<em><span style="color:#333333"><span style="font-family:arial\,sans-serif"><span style="font-size:10.0pt">No-shows will not be refunded but will receive program materials.</span></span></span></em>
LOCATION:Country Club of York 1400 Country Club Road York\, PA 17403
UID:e.1500.1132
SEQUENCE:3
DTSTAMP:20260422T102813Z
URL:https://business.mainstreethanover.org/events/details/the-new-overtime-regulations-under-the-flsa-06-29-2016-1132
END:VEVENT

END:VCALENDAR
