BEGIN:VCALENDAR
VERSION:2.0
PRODID:-//ChamberMaster//Event Calendar 2.0//EN
METHOD:PUBLISH
X-PUBLISHED-TTL:P3D
REFRESH-INTERVAL:P3D
CALSCALE:GREGORIAN
BEGIN:VEVENT
DTSTART:20160911T180000Z
DTEND:20160911T220000Z
X-MICROSOFT-CDO-ALLDAYEVENT:FALSE
SUMMARY:The Old People are Revolting
DESCRIPTION:The residents of the Sunshine Retirement Village have had enough: they're revolting!\n\nFed up with being ignored and relegated to the sidelines of life\, a group of seniors take\n\ntheir grievances into their own hands with hilarious results.
X-ALT-DESC;FMTTYPE=text/html:The residents of the Sunshine Retirement Village have had enough: they&#39\;re revolting!<br />\nFed up with being ignored and relegated to the sidelines of life\, a group of seniors take<br />\ntheir grievances into their own hands with hilarious results.
LOCATION:Hanover Little Theatre 360 Blooming Grove Rd. (RTE. 216) Hanover\, PA 17331
UID:e.1500.1229
SEQUENCE:3
DTSTAMP:20260422T071238Z
URL:https://business.mainstreethanover.org/events/details/the-old-people-are-revolting-1229
END:VEVENT

END:VCALENDAR
