BEGIN:VCALENDAR
VERSION:2.0
PRODID:-//ChamberMaster//Event Calendar 2.0//EN
METHOD:PUBLISH
X-PUBLISHED-TTL:P3D
REFRESH-INTERVAL:P3D
CALSCALE:GREGORIAN
BEGIN:VEVENT
DTSTART:20170315T223000Z
DTEND:20170316T003000Z
X-MICROSOFT-CDO-ALLDAYEVENT:FALSE
SUMMARY:The Talk 101
DESCRIPTION:This adult-only community program is designed for parents and/or guardians to help with discussing the subject of sex with their child. Topics covered include di?culties with talking about sex\, reproductive system basics\, sexually transmitted infections\, and tips for making positive encounters with your child regarding this sometimes uncomfortable subject.  Cost is $14 per person.  Register online at www.byrneshec.org/events
X-ALT-DESC;FMTTYPE=text/html:<span style="color:rgb(102\, 102\, 102)\; font-family:arial">This adult-only community program is designed for parents and/or guardians to help with discussing the subject of sex with their child. Topics covered include di?culties with talking about sex\, reproductive system basics\, sexually transmitted infections\, and tips for making positive encounters with your child regarding this sometimes uncomfortable subject.&nbsp\; Cost is $14 per person. &nbsp\;Register online at www.byrneshec.org/events</span>
LOCATION:Byrnes Health Education Center 515 South George Street York\, PA 17401
UID:e.1500.1200
SEQUENCE:3
DTSTAMP:20260421T213100Z
URL:https://business.mainstreethanover.org/events/details/the-talk-101-03-15-2017-1200
END:VEVENT

END:VCALENDAR
