BEGIN:VCALENDAR
VERSION:2.0
PRODID:-//ChamberMaster//Event Calendar 2.0//EN
METHOD:PUBLISH
X-PUBLISHED-TTL:P3D
REFRESH-INTERVAL:P3D
CALSCALE:GREGORIAN
BEGIN:VEVENT
DTSTART:20180506T153000Z
DTEND:20180506T210000Z
X-MICROSOFT-CDO-ALLDAYEVENT:FALSE
SUMMARY:Thirty One Bingo
DESCRIPTION:Tickets are $20 each and each person playing will need a ticket. Doors at 11:30. Bingo starts at 1:00. For additional costs we will have specials\, raffles\, food\, and drinks.
X-ALT-DESC;FMTTYPE=text/html:<span style="color:rgb(75\, 79\, 86)\; font-family:helvetica\,arial\,sans-serif\; font-size:14px">Tickets are $20 each and each person playing will need a ticket. Doors at 11:30. Bingo starts at 1:00. For additional costs we will have specials\, raffles\, food\, and drinks.</span>
LOCATION:Hanover VFW 19 McKinley Ave\, Hanover\, PA
UID:e.1500.4195
SEQUENCE:3
DTSTAMP:20260420T215111Z
URL:https://business.mainstreethanover.org/events/details/thirty-one-bingo-4195
END:VEVENT

END:VCALENDAR
