BEGIN:VCALENDAR
VERSION:2.0
PRODID:-//ChamberMaster//Event Calendar 2.0//EN
METHOD:PUBLISH
X-PUBLISHED-TTL:P3D
REFRESH-INTERVAL:P3D
CALSCALE:GREGORIAN
BEGIN:VEVENT
DTSTART:20160305T170000Z
DTEND:20160305T220000Z
X-MICROSOFT-CDO-ALLDAYEVENT:FALSE
SUMMARY:Tour De Tanks
DESCRIPTION:Sip away winter chills and taste the year's newest wines before anyone else! Each weekend of the signature Tour de Tanks event in March\, guests receive exclusive tastings from winery tanks or barrels\, special tours or educational experiences\, light refreshments\, special commemoratives and a 10 percent discount on wine purchases.\n\nFor more information visit http://www.yorkpa.org/things-to-do/mason-dixon-wine-trail
X-ALT-DESC;FMTTYPE=text/html:Sip away winter chills and taste the year&#39\;s newest wines before anyone else! Each weekend of the signature Tour de Tanks event in March\, guests receive exclusive tastings from winery tanks or barrels\, special tours or educational experiences\, light refreshments\, special commemoratives and a 10 percent discount on wine purchases.<br />\nFor more information visit<strong>&nbsp\;</strong><a href="http://www.yorkpa.org/things-to-do/mason-dixon-wine-trail">http://www.yorkpa.org/things-to-do/mason-dixon-wine-trail</a>
LOCATION:16 Wineries and one Distillery along the Mason-Dixon Wine Trail
UID:e.1500.1065
SEQUENCE:3
DTSTAMP:20260422T143216Z
URL:https://business.mainstreethanover.org/events/details/tour-de-tanks-03-05-2016-1065
END:VEVENT

END:VCALENDAR
