BEGIN:VCALENDAR
VERSION:2.0
PRODID:-//ChamberMaster//Event Calendar 2.0//EN
METHOD:PUBLISH
X-PUBLISHED-TTL:P3D
REFRESH-INTERVAL:P3D
CALSCALE:GREGORIAN
BEGIN:VEVENT
DTSTART;VALUE=DATE:20170920
DTEND;VALUE=DATE:20170921
TRANSP:TRANSPARENT
X-MICROSOFT-CDO-ALLDAYEVENT:TRUE
SUMMARY:Trash to Treasure
DESCRIPTION:Artists have turned trash ? old license plates\, used lumber\, junk metal ? into pieces of art for a month-long exhibit at Art Downtown\, 32 Carlisle St.\, Hanover. Trash to Treasure: Re-Purposed Objects Become Art features work by 17 regional artists. Old vinyl records are now part of a collage\; a cabinet door is an artist's canvas\; and an Adirondack chair is a statement piece for a Gettysburg artists. The exhibit will be on display through Sept. 30. It can been seen during regular gallery hours.\n\nThe gallery is open 10 a.m.-5 p.m. Tuesday-Thursday\, 10 a.m.-7 p.m. Friday and 10 a.m.-3 p.m. Saturday. The gallery is always free.\n\n\n\nThe Arts Guild now is taking registrations for its fall classes. Stop in or give us a call if you're interested in getting creative this fall!
X-ALT-DESC;FMTTYPE=text/html:<span style="color:rgb(0\, 0\, 0)\; font-family:helvetica\,arial\,sans-serif\; font-size:12px">Artists have turned trash ? old license plates\, used lumber\, junk metal ? into pieces of art for a month-long exhibit at Art Downtown\, 32 Carlisle St.\, Hanover. Trash to Treasure: Re-Purposed Objects Become Art features work by 17 regional artists. Old vinyl records are now part of a collage\; a cabinet door is an artist&#39\;s canvas\; and an Adirondack chair is a statement piece for a Gettysburg artists. The exhibit will be on display through Sept. 30. It can been seen during regular gallery hours.</span><br />\n<span style="color:rgb(0\, 0\, 0)\; font-family:helvetica\,arial\,sans-serif\; font-size:12px">The gallery is open 10 a.m.-5 p.m. Tuesday-Thursday\, 10 a.m.-7 p.m. Friday and 10 a.m.-3 p.m. Saturday. The gallery is always free.<br />\n<br />\nThe Arts Guild now is taking registrations for its fall classes. Stop in or give us a call if you&#39\;re interested in getting creative this fall!</span>
LOCATION:Art Downtown\, 32 Carlisle St.\, just steps off the Square
UID:e.1500.3046
SEQUENCE:3
DTSTAMP:20260421T122639Z
URL:https://business.mainstreethanover.org/events/details/trash-to-treausre-09-20-2017-3046
END:VEVENT

END:VCALENDAR
