BEGIN:VCALENDAR
VERSION:2.0
PRODID:-//ChamberMaster//Event Calendar 2.0//EN
METHOD:PUBLISH
X-PUBLISHED-TTL:P3D
REFRESH-INTERVAL:P3D
CALSCALE:GREGORIAN
BEGIN:VEVENT
DTSTART:20160922T210000Z
DTEND:20160923T000000Z
X-MICROSOFT-CDO-ALLDAYEVENT:FALSE
SUMMARY:TrueNorth Riding the Wellness Wave
DESCRIPTION:Surf's up! Ride the Wellness Wve by attending TrueNorth Wellness Services' totally rad Health 7 Wellness Fair. \n\nThis year's mondo event will feature 60+ local health and wellness businesses and providers. You and other numerous dudes and dudettes can totally learn from a full array of screenings\, educational materials\, and interactive activities\, covering SAMHSA's 8 dimensions of wellness (social\, environmental\, physical\, emotional\, spiritual\, occupational\, intellectual and financial). \n\nThere will be Doorprizes\, FREE screenings and Interactive Experiences.
X-ALT-DESC;FMTTYPE=text/html:Surf&#39\;s up! Ride the Wellness Wve by attending TrueNorth Wellness Services&#39\; totally rad Health 7 Wellness Fair.&nbsp\;<br />\nThis year&#39\;s mondo event will feature 60+ local health and wellness businesses and providers. You and other numerous dudes and dudettes can totally learn from a full array of screenings\, educational materials\, and interactive activities\, covering SAMHSA&#39\;s 8 dimensions of wellness (social\, environmental\, physical\, emotional\, spiritual\, occupational\, intellectual and financial).&nbsp\;<br />\nThere will be Doorprizes\, FREE screenings and Interactive Experiences.
LOCATION:South Western High School 200 Bowman Rd. Hanover\, PA 17331
UID:e.1500.1209
SEQUENCE:3
DTSTAMP:20260422T053502Z
URL:https://business.mainstreethanover.org/events/details/truenorth-riding-the-wellness-wave-09-22-2016-1209
END:VEVENT

END:VCALENDAR
