BEGIN:VCALENDAR
VERSION:2.0
PRODID:-//ChamberMaster//Event Calendar 2.0//EN
METHOD:PUBLISH
X-PUBLISHED-TTL:P3D
REFRESH-INTERVAL:P3D
CALSCALE:GREGORIAN
BEGIN:VEVENT
DTSTART:20171027T140000Z
DTEND:20171027T200000Z
X-MICROSOFT-CDO-ALLDAYEVENT:FALSE
SUMMARY:TrueNorth Wellness Services Rummage Sale
DESCRIPTION:TrueNorth Wellness Services\, a behavioral health and wellness organization with offices across central Pa.\, will host its annual Rummage Sale at its Frederick Street location in Hanover.\n\n                                   \n\nDonations including clothing\, shoes\, small appliances\, small furniture\, linens\, nic-nacks\, jewelry\, books\, games and puzzles will be accepted until Wednesday\, Oct. 25\, 2017. TVs\, computers and stuffed furniture will not be accepted. Donations may be dropped off at the alley alongside TrueNorth Wellness Service at 33 Frederick St.\, Hanover.\n\n \n\nAll proceeds benefit the Social Rehabilitation Program\, an educational\, recreational and supportive environment for the enrichment and development of individuals with mental disorders.\n\n                                   \n\nFor more information\, contact VaVa Reed at 717-632-4900\, ext. 1424\, or vreed@truenorthwellness.org.
X-ALT-DESC;FMTTYPE=text/html:<span style="font-family:century gothic\,sans-serif\;"><span style="font-size:10.0pt\;">TrueNorth Wellness Services\, a behavioral health and wellness organization with offices across central Pa.\, will host its annual Rummage Sale at its Frederick Street location in Hanover.</span></span><br />\n&nbsp\;&nbsp\;&nbsp\;&nbsp\;&nbsp\;&nbsp\;&nbsp\;&nbsp\;&nbsp\;&nbsp\;&nbsp\;&nbsp\;&nbsp\;&nbsp\;&nbsp\;&nbsp\;&nbsp\;&nbsp\;&nbsp\;&nbsp\;&nbsp\;&nbsp\;&nbsp\;&nbsp\;&nbsp\;&nbsp\;&nbsp\;&nbsp\;&nbsp\;&nbsp\;&nbsp\;&nbsp\;&nbsp\;&nbsp\;&nbsp\;<br />\n<span style="font-family:century gothic\,sans-serif\;"><span style="font-size:10.0pt\;">Donations including clothing\, shoes\, small appliances\, small furniture\, linens\, nic-nacks\, jewelry\, books\, games and puzzles will be accepted until Wednesday\, Oct. 25\, 2017. TVs\, computers and stuffed furniture will not be accepted. Donations may be dropped off at the alley alongside TrueNorth Wellness Service at 33 Frederick St.\, Hanover.</span></span><br />\n&nbsp\;<br />\n<span style="font-family:century gothic\,sans-serif\;"><span style="font-size:10.0pt\;">All proceeds benefit the Social Rehabilitation Program\, an educational\, recreational and supportive environment for the enrichment and development of individuals with mental disorders.</span></span><br />\n&nbsp\;&nbsp\;&nbsp\;&nbsp\;&nbsp\;&nbsp\;&nbsp\;&nbsp\;&nbsp\;&nbsp\;&nbsp\;&nbsp\;&nbsp\;&nbsp\;&nbsp\;&nbsp\;&nbsp\;&nbsp\;&nbsp\;&nbsp\;&nbsp\;&nbsp\;&nbsp\;&nbsp\;&nbsp\;&nbsp\;&nbsp\;&nbsp\;&nbsp\;&nbsp\;&nbsp\;&nbsp\;&nbsp\;&nbsp\;&nbsp\;<br />\n<span style="font-family:century gothic\,sans-serif\;"><span style="font-size:10.0pt\;">For more information\, contact VaVa Reed at 717-632-4900\, ext. 1424\, or </span></span><a href="mailto:vreed@truenorthwellness.org"><span style="font-family:century gothic\,sans-serif\;"><span style="font-size:10.0pt\;">vreed@truenorthwellness.org</span></span></a><span style="font-family:century gothic\,sans-serif\;"><span style="font-size:10.0pt\;">.&nbsp\;</span></span>
LOCATION:TrueNorth Wellness Services 33 Frederick St.\, Hanover\, PA 17331
UID:e.1500.3082
SEQUENCE:3
DTSTAMP:20260421T105219Z
URL:https://business.mainstreethanover.org/events/details/truenorth-wellness-services-rummage-sale-3082
END:VEVENT

END:VCALENDAR
