BEGIN:VCALENDAR
VERSION:2.0
PRODID:-//ChamberMaster//Event Calendar 2.0//EN
METHOD:PUBLISH
X-PUBLISHED-TTL:P3D
REFRESH-INTERVAL:P3D
CALSCALE:GREGORIAN
BEGIN:VEVENT
DTSTART:20151024T160000Z
DTEND:20151024T190000Z
X-MICROSOFT-CDO-ALLDAYEVENT:FALSE
SUMMARY:Trunk or Treat
DESCRIPTION:Gather up your miniature ghosts and goblins and head over to the AACA Museum in Hershey for a bit of Halloween fun! All visitors 12 and under will be eligible to participate in the AACA Museum's "Trunk or Treat" program included with museum admission. We will offer a special $7 admission price for everyone on October 24th.\n\nThe first stop will be craft tables to decorate their own Treat bags using various car and Halloween stamps\, stickers\, markers and more. Once they've personalized their own treat bag\, the hunt will begin to locate a variety of "trunk or treat" spots within the main and lower levels of the Museum. Treats will be given to each child 12 and under at each of these treat locations throughout the museum provided by The Hershey Company.\n\nHalloween themed videos will be played in the indoor Drive-In theater and a display of hearse vehicles will be available for viewing so everyone can get in the spirit.\n\nDon't miss the inflatable haunted house complete with our own resident witch   a visitor favorite!\n\nSpecial note: We are asking all miniature ghosts\, goblins\, pirates and more to leave any sharp or pointed costume accessories at home so as not to injure other guests or Museum vehicles.
X-ALT-DESC;FMTTYPE=text/html:<p style="color: rgb(34\, 34\, 34)\; line-height: normal\; font-family: arial\, sans-serif\; font-size: 12.8px\;">Gather up your miniature ghosts and goblins and head over to the AACA Museum in Hershey for a bit of Halloween fun! All visitors 12 and under will be eligible to participate in the AACA Museum&rsquo\;s &ldquo\;Trunk or Treat&rdquo\; program included with museum admission. We will offer a special $7 admission price for everyone on October 24th.</p>\n\n<p style="color: rgb(34\, 34\, 34)\; line-height: normal\; font-family: arial\, sans-serif\; font-size: 12.8px\;">The first stop will be craft tables to decorate their own Treat bags using various car and Halloween stamps\, stickers\, markers and more. Once they&rsquo\;ve personalized their own treat bag\, the hunt will begin to locate a variety of &ldquo\;trunk or treat&rdquo\; spots within the main and lower levels of the Museum. Treats will be given to each child 12 and under at each of these treat locations throughout the museum provided by The Hershey Company.</p>\n\n<p style="color: rgb(34\, 34\, 34)\; line-height: normal\; font-family: arial\, sans-serif\; font-size: 12.8px\;">Halloween themed videos will be played in the indoor Drive-In theater and a display of hearse vehicles will be available for viewing so everyone can get in the spirit.</p>\n\n<p style="color: rgb(34\, 34\, 34)\; line-height: normal\; font-family: arial\, sans-serif\; font-size: 12.8px\;">Don&rsquo\;t miss the inflatable haunted house complete with our own resident witch &ndash\; a visitor favorite!</p>\n\n<p style="color: rgb(34\, 34\, 34)\; line-height: normal\; font-family: arial\, sans-serif\; font-size: 12.8px\;"><strong>Special note</strong>: We are asking all miniature ghosts\, goblins\, pirates and more to leave any sharp or pointed costume accessories at home so as not to injure other guests or Museum vehicles.</p>\n
LOCATION:AACA Museum 161 Museum Drive Hershey\, PA 17033
UID:e.1500.980
SEQUENCE:3
DTSTAMP:20260422T215855Z
URL:https://business.mainstreethanover.org/events/details/trunk-or-treat-10-24-2015-980
END:VEVENT

END:VCALENDAR
