BEGIN:VCALENDAR
VERSION:2.0
PRODID:-//ChamberMaster//Event Calendar 2.0//EN
METHOD:PUBLISH
X-PUBLISHED-TTL:P3D
REFRESH-INTERVAL:P3D
CALSCALE:GREGORIAN
BEGIN:VEVENT
DTSTART;VALUE=DATE:20160517
DTEND;VALUE=DATE:20160518
TRANSP:TRANSPARENT
X-MICROSOFT-CDO-ALLDAYEVENT:TRUE
SUMMARY:UNION BOUND: The Tour
DESCRIPTION:UNION BOUND: The Tour\n\nThe evening will feature:  Music\, Movie and Memorabilia from the film UNION BOUND and from the civil war era\n\nincluding the actual diaries of Joseph Hoover from whom this is all based. \n\nThe evening is hosted by Actor Tank Jones     (NCIS\, Breaking Bad\, Three Kings among others)\n\n\n\nPerformances by: \n\nCollin Raye\, Nikki Nelson\, Street Drum Corps\n\nand with very special guest Cactus Moser and Wynonna (on select dates)
X-ALT-DESC;FMTTYPE=text/html:<span style="font-size:9.5pt\;">UNION BOUND: The Tour<br />\nThe evening will feature:&nbsp\; Music\, Movie and Memorabilia from the film UNION BOUND and from the civil war era<br />\nincluding the actual diaries of Joseph Hoover from whom this is all based. </span><br />\n<span style="font-size:9.5pt\;">The evening is hosted by Actor Tank Jones&nbsp\;&nbsp\;&nbsp\;&nbsp\; (NCIS\, Breaking Bad\, Three Kings among others)</span><br />\n<br />\n<span style="font-size:9.5pt\;">Performances by: </span><br />\n<span style="font-size:9.5pt\;">Collin Raye\, Nikki Nelson\, Street Drum Corps</span><br />\n<span style="font-size:9.5pt\;">and with very special guest Cactus Moser and Wynonna (on select dates)</span><br />\n&nbsp\;
LOCATION:
UID:e.1500.1109
SEQUENCE:3
DTSTAMP:20260422T114656Z
URL:https://business.mainstreethanover.org/events/details/union-bound-the-tour-05-17-2016-1109
END:VEVENT

END:VCALENDAR
