BEGIN:VCALENDAR
VERSION:2.0
PRODID:-//ChamberMaster//Event Calendar 2.0//EN
METHOD:PUBLISH
X-PUBLISHED-TTL:P3D
REFRESH-INTERVAL:P3D
CALSCALE:GREGORIAN
BEGIN:VEVENT
DTSTART;VALUE=DATE:20170804
DTEND;VALUE=DATE:20170805
TRANSP:TRANSPARENT
X-MICROSOFT-CDO-ALLDAYEVENT:TRUE
SUMMARY:UTZ Summer Bash
DESCRIPTION:A free day for the Hanover Community of carnival style games and kid friendly events!
X-ALT-DESC;FMTTYPE=text/html:<span style="color: rgb(50\, 40\, 40)\; font-family: Arial\, Helvetica\, sans-serif\; font-size: 16px\; background-color: rgb(204\, 204\, 204)\;">A free day for the Hanover Community of carnival style games and kid friendly events!</span>
LOCATION:861 Carlisle St. Hanover\, PA 17331
UID:e.1500.2997
SEQUENCE:3
DTSTAMP:20260421T122140Z
URL:https://business.mainstreethanover.org/events/details/utz-summer-bash-2997
END:VEVENT

END:VCALENDAR
