BEGIN:VCALENDAR
VERSION:2.0
PRODID:-//ChamberMaster//Event Calendar 2.0//EN
METHOD:PUBLISH
X-PUBLISHED-TTL:P3D
REFRESH-INTERVAL:P3D
CALSCALE:GREGORIAN
BEGIN:VEVENT
DTSTART:20180927T220000Z
DTEND:20180928T010000Z
X-MICROSOFT-CDO-ALLDAYEVENT:FALSE
SUMMARY:Wine & Wishes A Wine Tasting Event- Benefiting Make-A-Wish
DESCRIPTION:Uncork a world of wishes for children facing critical illnesses at the 3rd Annual Wine & Wishes   A Wine Tasting Event Benefiting Make-A-Wish. The 2018 Wine & Wishes Host Committee invites you to: Taste local wines Enjoy exquisite hors d'euvres Bid on special auction items Try your luck at the Mystery Wine Sale Make a night on the town meaningful. Attend Wine & Wishes and help give children the endless happiness of a wish-come-true! If you would like to become a sponsor or make a reservation\, please contact Ann Waltman at 717.757.9474 or awaltman@pawv.wish.org.
X-ALT-DESC;FMTTYPE=text/html:Uncork a world of wishes for children facing critical illnesses at the 3rd Annual Wine &amp\; Wishes &ndash\; A Wine Tasting Event Benefiting Make-A-Wish. The 2018 Wine &amp\; Wishes Host Committee invites you to: Taste local wines Enjoy exquisite hors d&rsquo\;euvres Bid on special auction items Try your luck at the Mystery Wine Sale Make a night on the town meaningful. Attend Wine &amp\; Wishes and help give children the endless happiness of a wish-come-true! If you would like to become a sponsor or make a reservation\, please contact Ann Waltman at 717.757.9474 or awaltman@pawv.wish.org.
LOCATION:Outdoor Country Club 1157 Detwiler Drive York\, PA 17404
UID:e.1500.4280
SEQUENCE:3
DTSTAMP:20260420T164821Z
URL:https://business.mainstreethanover.org/events/details/wine-wishes-a-wine-tasting-event-benefiting-make-a-wish-4280
END:VEVENT

END:VCALENDAR
