BEGIN:VCALENDAR
VERSION:2.0
PRODID:-//ChamberMaster//Event Calendar 2.0//EN
METHOD:PUBLISH
X-PUBLISHED-TTL:P3D
REFRESH-INTERVAL:P3D
CALSCALE:GREGORIAN
BEGIN:VEVENT
DTSTART:20160304T140000Z
DTEND:20160304T170000Z
X-MICROSOFT-CDO-ALLDAYEVENT:FALSE
SUMMARY:Workshop: First Steps- Starting and Planning a Small Business
DESCRIPTION:The Small Business Development Center of Shippensburg University will lead you through the first steps to starting up a small business and guide participants through the process of writing a business plan.
X-ALT-DESC;FMTTYPE=text/html:<span style="color: rgb(0\, 0\, 0)\; font-family: Calibri\, Helvetica\, Arial\, sans-serif\; font-size: 16px\; line-height: 20.8px\;">The Small Business Development Center of Shippensburg University will lead you through the first steps to starting up a small business and guide participants through the process of writing a business plan.&nbsp\;</span>
LOCATION:Hanover Chamber Office 146 Carlisle St.\, Hanover
UID:e.1500.1050
SEQUENCE:3
DTSTAMP:20260422T155723Z
URL:https://business.mainstreethanover.org/events/details/workshop-first-steps-starting-and-planning-a-small-business-03-04-2016-1050
END:VEVENT

END:VCALENDAR
