BEGIN:VCALENDAR
VERSION:2.0
PRODID:-//ChamberMaster//Event Calendar 2.0//EN
METHOD:PUBLISH
X-PUBLISHED-TTL:P3D
REFRESH-INTERVAL:P3D
CALSCALE:GREGORIAN
BEGIN:VEVENT
DTSTART:20151112T130000Z
DTEND:20151112T160000Z
X-MICROSOFT-CDO-ALLDAYEVENT:FALSE
SUMMARY:Year-End Insight Seminar
DESCRIPTION:Smith Elliott Kearns & Company's FREE seminar that focuses on updates and issues affecting payroll and other compliance matters for PA and MD businesses. A continental breakfast will be served beginning at 8:00 and the sessions will run from 8:30 - 11:00. Please register by November 2 at www.sek.eventbrite.com
X-ALT-DESC;FMTTYPE=text/html:Smith Elliott Kearns &amp\; Company&#39\;s FREE seminar that focuses on updates and issues affecting payroll and other compliance matters for PA and MD businesses. A continental breakfast will be served beginning at 8:00 and the sessions will run from 8:30 - 11:00. Please register by November 2 at www.sek.eventbrite.com
LOCATION:Hanover Country Club\, 200 Water Street\, Abbottstown\, PA
UID:e.1500.974
SEQUENCE:3
DTSTAMP:20260422T214656Z
URL:https://business.mainstreethanover.org/events/details/year-end-insight-seminar-11-12-2015-974
END:VEVENT

END:VCALENDAR
