BEGIN:VCALENDAR
VERSION:2.0
PRODID:-//ChamberMaster//Event Calendar 2.0//EN
METHOD:PUBLISH
X-PUBLISHED-TTL:P3D
REFRESH-INTERVAL:P3D
CALSCALE:GREGORIAN
BEGIN:VEVENT
DTSTART:20151211T220000Z
DTEND:20151212T000000Z
X-MICROSOFT-CDO-ALLDAYEVENT:FALSE
SUMMARY:Yes You Canvas Painting Class "Olaf!"
DESCRIPTION:Paint your favorite snowman\, Olaf! All ages welcome. Children under the age of 10 require adult supervision. All the supplies you need are included in cost. Bring your family and friends for a fun evening of painting. Alternative date(s) available at another location. See Instructor for details.
X-ALT-DESC;FMTTYPE=text/html:Paint your favorite snowman\, Olaf! All ages welcome. Children under the age of 10 require adult supervision. All the supplies you need are included in cost. Bring your family and friends for a fun evening of painting. Alternative date(s) available at another location. See Instructor for details.
LOCATION:Hanover Hobby Lobby Classroom
UID:e.1500.1026
SEQUENCE:3
DTSTAMP:20260422T185150Z
URL:https://business.mainstreethanover.org/events/details/yes-you-canvas-painting-class-olaf-12-11-2015-1026
END:VEVENT

END:VCALENDAR
